BEGIN:VCALENDAR
VERSION:2.0
PRODID:-//Saddle Ranch Elementary PTIO - ECPv6.15.20//NONSGML v1.0//EN
CALSCALE:GREGORIAN
METHOD:PUBLISH
X-ORIGINAL-URL:https://saddleranchptio.org
X-WR-CALDESC:Events for Saddle Ranch Elementary PTIO
REFRESH-INTERVAL;VALUE=DURATION:PT1H
X-Robots-Tag:noindex
X-PUBLISHED-TTL:PT1H
BEGIN:VTIMEZONE
TZID:America/Denver
BEGIN:DAYLIGHT
TZOFFSETFROM:-0700
TZOFFSETTO:-0600
TZNAME:MDT
DTSTART:20230312T090000
END:DAYLIGHT
BEGIN:STANDARD
TZOFFSETFROM:-0600
TZOFFSETTO:-0700
TZNAME:MST
DTSTART:20231105T080000
END:STANDARD
BEGIN:DAYLIGHT
TZOFFSETFROM:-0700
TZOFFSETTO:-0600
TZNAME:MDT
DTSTART:20240310T090000
END:DAYLIGHT
BEGIN:STANDARD
TZOFFSETFROM:-0600
TZOFFSETTO:-0700
TZNAME:MST
DTSTART:20241103T080000
END:STANDARD
BEGIN:DAYLIGHT
TZOFFSETFROM:-0700
TZOFFSETTO:-0600
TZNAME:MDT
DTSTART:20250309T090000
END:DAYLIGHT
BEGIN:STANDARD
TZOFFSETFROM:-0600
TZOFFSETTO:-0700
TZNAME:MST
DTSTART:20251102T080000
END:STANDARD
END:VTIMEZONE
BEGIN:VEVENT
DTSTART;TZID=America/Denver:20240815T170000
DTEND;TZID=America/Denver:20240815T193000
DTSTAMP:20260424T091656
CREATED:20240727T194818Z
LAST-MODIFIED:20240727T222111Z
UID:15175-1723741200-1723750200@saddleranchptio.org
SUMMARY:Back to School Bash
DESCRIPTION:Come for the SRE Back to School Open House and stay for the Back to School Bash fun! \nAll members of your SRE family are welcome ANYTIME between 5:00 PM – 7:30 PM \nWhat to Expect: \n\nMeet and Greet: Meet your child’s teachers and school staff.\nExplore the School: Join the fun SRE Scavenger Hunt with the kids.\nDelicious Food: Enjoy dinner and dessert from food trucks and Eileen’s Colossal Cookies.\nFun Activities: Participate in outdoor activities organized by our wonderful SRE PTIO volunteers.\nLearn and Support: Discover after-school programs and community resources.\nSpiritwear Swap: Bring old SRE Spiritwear to swap for something new.\nPaper Drive: Donate to our copy paper drive.\n\nVOLUNTEERS NEEDED! 
URL:https://saddleranchptio.org/calendar/back-to-school-bash/
LOCATION:Saddle Ranch Elementary (SRE)\, 805 W. English Sparrow Trail\, Highlands Ranch\, CO\, 80129\, United States
CATEGORIES:School Activities,School Calendar,Student Activity
ATTACH;FMTTYPE=image/png:https://saddleranchptio.org/wp-content/uploads/2024/07/2024-Back-To-School-Bash-Event-Flyer.png
END:VEVENT
END:VCALENDAR