BEGIN:VCALENDAR
VERSION:2.0
PRODID:-//Saddle Ranch Elementary PTIO - ECPv6.15.20//NONSGML v1.0//EN
CALSCALE:GREGORIAN
METHOD:PUBLISH
X-WR-CALNAME:Saddle Ranch Elementary PTIO
X-ORIGINAL-URL:https://saddleranchptio.org
X-WR-CALDESC:Events for Saddle Ranch Elementary PTIO
REFRESH-INTERVAL;VALUE=DURATION:PT1H
X-Robots-Tag:noindex
X-PUBLISHED-TTL:PT1H
BEGIN:VTIMEZONE
TZID:America/Denver
BEGIN:DAYLIGHT
TZOFFSETFROM:-0700
TZOFFSETTO:-0600
TZNAME:MDT
DTSTART:20230312T090000
END:DAYLIGHT
BEGIN:STANDARD
TZOFFSETFROM:-0600
TZOFFSETTO:-0700
TZNAME:MST
DTSTART:20231105T080000
END:STANDARD
BEGIN:DAYLIGHT
TZOFFSETFROM:-0700
TZOFFSETTO:-0600
TZNAME:MDT
DTSTART:20240310T090000
END:DAYLIGHT
BEGIN:STANDARD
TZOFFSETFROM:-0600
TZOFFSETTO:-0700
TZNAME:MST
DTSTART:20241103T080000
END:STANDARD
BEGIN:DAYLIGHT
TZOFFSETFROM:-0700
TZOFFSETTO:-0600
TZNAME:MDT
DTSTART:20250309T090000
END:DAYLIGHT
BEGIN:STANDARD
TZOFFSETFROM:-0600
TZOFFSETTO:-0700
TZNAME:MST
DTSTART:20251102T080000
END:STANDARD
END:VTIMEZONE
BEGIN:VEVENT
DTSTART;TZID=America/Denver:20241022T150000
DTEND;TZID=America/Denver:20241022T163000
DTSTAMP:20260424T072416
CREATED:20241009T235350Z
LAST-MODIFIED:20241010T125013Z
UID:16504-1729609200-1729614600@saddleranchptio.org
SUMMARY:Halloween Costume Drive
DESCRIPTION:No time to shop for a Halloween costume or make one at home? Don’t worry\, PTIO has you covered! Stop by the Halloween Costume Drive on Tuesday\, October 22 between 3:00 PM – 4:30 PM to shop\, swap\, or DONATE your child-sized Halloween costume! 🎃👻 \nDROP-OFF your gently used costumes anytime before Monday (10/21) at 4 PM in the donation bin in the school office or at 997 English Sparrow Trail over fall break.All costumes left at the end of the event will be DONATED to children and families in need. \n\n 
URL:https://saddleranchptio.org/calendar/halloween-costume-drive-2/
LOCATION:Saddle Ranch Elementary (SRE)\, 805 W. English Sparrow Trail\, Highlands Ranch\, CO\, 80129\, United States
CATEGORIES:Community Event
ATTACH;FMTTYPE=image/png:https://saddleranchptio.org/wp-content/uploads/2024/10/Halloween-Costume-Drive-2.png
END:VEVENT
END:VCALENDAR