BEGIN:VCALENDAR
VERSION:2.0
PRODID:-//Saddle Ranch Elementary PTIO - ECPv6.15.20//NONSGML v1.0//EN
CALSCALE:GREGORIAN
METHOD:PUBLISH
X-ORIGINAL-URL:https://saddleranchptio.org
X-WR-CALDESC:Events for Saddle Ranch Elementary PTIO
REFRESH-INTERVAL;VALUE=DURATION:PT1H
X-Robots-Tag:noindex
X-PUBLISHED-TTL:PT1H
BEGIN:VTIMEZONE
TZID:America/Denver
BEGIN:DAYLIGHT
TZOFFSETFROM:-0700
TZOFFSETTO:-0600
TZNAME:MDT
DTSTART:20240310T090000
END:DAYLIGHT
BEGIN:STANDARD
TZOFFSETFROM:-0600
TZOFFSETTO:-0700
TZNAME:MST
DTSTART:20241103T080000
END:STANDARD
BEGIN:DAYLIGHT
TZOFFSETFROM:-0700
TZOFFSETTO:-0600
TZNAME:MDT
DTSTART:20250309T090000
END:DAYLIGHT
BEGIN:STANDARD
TZOFFSETFROM:-0600
TZOFFSETTO:-0700
TZNAME:MST
DTSTART:20251102T080000
END:STANDARD
BEGIN:DAYLIGHT
TZOFFSETFROM:-0700
TZOFFSETTO:-0600
TZNAME:MDT
DTSTART:20260308T090000
END:DAYLIGHT
BEGIN:STANDARD
TZOFFSETFROM:-0600
TZOFFSETTO:-0700
TZNAME:MST
DTSTART:20261101T080000
END:STANDARD
END:VTIMEZONE
BEGIN:VEVENT
DTSTART;TZID=America/Denver:20250313T000000
DTEND;TZID=America/Denver:20250313T235900
DTSTAMP:20260424T040201
CREATED:20250309T120517Z
LAST-MODIFIED:20250311T005814Z
UID:15856-1741824000-1741910340@saddleranchptio.org
SUMMARY:Restaurant Night: SRE Night at Red Robin
DESCRIPTION:Saddle Ranch Elementary School PTIO will receive 20% of fundraiser sales* during this fundraiser. Participate on Tuesday\, March 13\, 2025 during the scheduled fundraiser time by showing the flyer below to your server at this Red Robin location\, or by ordering online at redrobin.com or on the Red Robin mobile app. For online and mobile app orders you must add the fundraiser to your cart before you check out for the sales to count towards the fundraiser. \n* 20% of eligible dine-in and to-go sales (excludes sales from catering\, 3rd party ordering and delivery sites\, alcohol\, gift cards\, retail\, tax and gratuity)
URL:https://saddleranchptio.org/calendar/restaurant-night-red-robin-donating-20-of-fundraiser-sales/
LOCATION:Red Robin\, 63 W Centennial Blvd\, Highlands Ranch\, CO\, 80129\, United States
CATEGORIES:Restaurant Night
ATTACH;FMTTYPE=image/png:https://saddleranchptio.org/wp-content/uploads/2024/09/Red-Robin.png
END:VEVENT
END:VCALENDAR