BEGIN:VCALENDAR
VERSION:2.0
PRODID:-//Saddle Ranch Elementary PTIO - ECPv6.15.20//NONSGML v1.0//EN
CALSCALE:GREGORIAN
METHOD:PUBLISH
X-WR-CALNAME:Saddle Ranch Elementary PTIO
X-ORIGINAL-URL:https://saddleranchptio.org
X-WR-CALDESC:Events for Saddle Ranch Elementary PTIO
REFRESH-INTERVAL;VALUE=DURATION:PT1H
X-Robots-Tag:noindex
X-PUBLISHED-TTL:PT1H
BEGIN:VTIMEZONE
TZID:America/Denver
BEGIN:DAYLIGHT
TZOFFSETFROM:-0700
TZOFFSETTO:-0600
TZNAME:MDT
DTSTART:20240310T090000
END:DAYLIGHT
BEGIN:STANDARD
TZOFFSETFROM:-0600
TZOFFSETTO:-0700
TZNAME:MST
DTSTART:20241103T080000
END:STANDARD
BEGIN:DAYLIGHT
TZOFFSETFROM:-0700
TZOFFSETTO:-0600
TZNAME:MDT
DTSTART:20250309T090000
END:DAYLIGHT
BEGIN:STANDARD
TZOFFSETFROM:-0600
TZOFFSETTO:-0700
TZNAME:MST
DTSTART:20251102T080000
END:STANDARD
BEGIN:DAYLIGHT
TZOFFSETFROM:-0700
TZOFFSETTO:-0600
TZNAME:MDT
DTSTART:20260308T090000
END:DAYLIGHT
BEGIN:STANDARD
TZOFFSETFROM:-0600
TZOFFSETTO:-0700
TZNAME:MST
DTSTART:20261101T080000
END:STANDARD
END:VTIMEZONE
BEGIN:VEVENT
DTSTART;TZID=America/Denver:20250506T170000
DTEND;TZID=America/Denver:20250506T210000
DTSTAMP:20260424T011425
CREATED:20250217T142619Z
LAST-MODIFIED:20250217T193629Z
UID:18990-1746550800-1746565200@saddleranchptio.org
SUMMARY:Restaurant Night: SRE Night at Chipotle
DESCRIPTION:📅 Date: Tuesday\, May 6th⏰ Time: 5:00 PM – 9:00 PM📍 Location: Chipotle\, 2209 W Wildcat Reserve Pkwy Unit E1A\, Highlands Ranch\, CO 80129 \nSupport Saddle Ranch Elementary PTO by grabbing dinner at Chipotle! 25% of event sales will be donated to SRE when you order in person and show this flyer or order online using code FG7XY76 at checkout. \n🍽️ How to Participate: \n\nDine in and show the flyer at checkout\nOrder online for pickup using code FG7XY76\n\nOrders must be placed for pickup from the listed location during the event hours to count toward the fundraiser. Delivery\, gift cards\, and orders outside the timeframe do not qualify. A $150 minimum event sales total is required for donations.
URL:https://saddleranchptio.org/calendar/restaurant-night-chipotle-night-25-of-event-sales-will-be-donated-to-sre/
LOCATION:Chipotle (Wildcat)\, 2209 W Wildcat Reserve Pkwy Unit E1A80129\, Highlands Ranch\, CO\, 80129\, United States
CATEGORIES:Restaurant Night
ATTACH;FMTTYPE=image/jpeg:https://saddleranchptio.org/wp-content/uploads/2025/02/538295-flyer.jpg
END:VEVENT
END:VCALENDAR