BEGIN:VCALENDAR
VERSION:2.0
PRODID:-//Saddle Ranch Elementary PTIO - ECPv6.15.20//NONSGML v1.0//EN
CALSCALE:GREGORIAN
METHOD:PUBLISH
X-ORIGINAL-URL:https://saddleranchptio.org
X-WR-CALDESC:Events for Saddle Ranch Elementary PTIO
REFRESH-INTERVAL;VALUE=DURATION:PT1H
X-Robots-Tag:noindex
X-PUBLISHED-TTL:PT1H
BEGIN:VTIMEZONE
TZID:America/Denver
BEGIN:DAYLIGHT
TZOFFSETFROM:-0700
TZOFFSETTO:-0600
TZNAME:MDT
DTSTART:20240310T090000
END:DAYLIGHT
BEGIN:STANDARD
TZOFFSETFROM:-0600
TZOFFSETTO:-0700
TZNAME:MST
DTSTART:20241103T080000
END:STANDARD
BEGIN:DAYLIGHT
TZOFFSETFROM:-0700
TZOFFSETTO:-0600
TZNAME:MDT
DTSTART:20250309T090000
END:DAYLIGHT
BEGIN:STANDARD
TZOFFSETFROM:-0600
TZOFFSETTO:-0700
TZNAME:MST
DTSTART:20251102T080000
END:STANDARD
BEGIN:DAYLIGHT
TZOFFSETFROM:-0700
TZOFFSETTO:-0600
TZNAME:MDT
DTSTART:20260308T090000
END:DAYLIGHT
BEGIN:STANDARD
TZOFFSETFROM:-0600
TZOFFSETTO:-0700
TZNAME:MST
DTSTART:20261101T080000
END:STANDARD
END:VTIMEZONE
BEGIN:VEVENT
DTSTART;TZID=America/Denver:20250205T160000
DTEND;TZID=America/Denver:20250205T200000
DTSTAMP:20260424T063155
CREATED:20240730T004915Z
LAST-MODIFIED:20240916T151612Z
UID:15336-1738771200-1738785600@saddleranchptio.org
SUMMARY:Restaurant Night: Freddy's
DESCRIPTION:We have a way for you to take a night off from cooking\, let your kids eat at some of their favorite restaurants\, and you don’t have to feel guilty because a portion of your purchase goes to funding Saddle Ranch. \nSaddle Ranch Elementary School PTIO will receive 15% of fundraiser sales* during this event on Oct 29\, 2024 from 4:00 pm to 8:00 pm by ordering digitally or at the physical Freddy’s restaurant. \nTo participate digitally\, order on the Freddy’s mobile app or website using the code GIVEBACK. To participate at the restaurant\, tell the cashier of your participation (before payment) or show the fundraiser flyer below to the cashier (before payment). \n*DoorDash\, Uber Eats\, GrubHub and Google orders\, gift card sales and delivery fees excluded. \nDOWNLOAD FUNDRAISING FLYER
URL:https://saddleranchptio.org/calendar/restaurant-fundraiser-freddys-2/
LOCATION:Freddy’s\, 900 Sergeant Jon Stiles Dr\, Highlands Ranch\, CO\, 80129\, United States
CATEGORIES:Restaurant Night
ATTACH;FMTTYPE=image/png:https://saddleranchptio.org/wp-content/uploads/2024/07/Freddys.png
END:VEVENT
END:VCALENDAR