BEGIN:VCALENDAR
VERSION:2.0
PRODID:-//Saddle Ranch Elementary PTIO - ECPv6.15.20//NONSGML v1.0//EN
CALSCALE:GREGORIAN
METHOD:PUBLISH
X-ORIGINAL-URL:https://saddleranchptio.org
X-WR-CALDESC:Events for Saddle Ranch Elementary PTIO
REFRESH-INTERVAL;VALUE=DURATION:PT1H
X-Robots-Tag:noindex
X-PUBLISHED-TTL:PT1H
BEGIN:VTIMEZONE
TZID:America/Denver
BEGIN:DAYLIGHT
TZOFFSETFROM:-0700
TZOFFSETTO:-0600
TZNAME:MDT
DTSTART:20230312T090000
END:DAYLIGHT
BEGIN:STANDARD
TZOFFSETFROM:-0600
TZOFFSETTO:-0700
TZNAME:MST
DTSTART:20231105T080000
END:STANDARD
BEGIN:DAYLIGHT
TZOFFSETFROM:-0700
TZOFFSETTO:-0600
TZNAME:MDT
DTSTART:20240310T090000
END:DAYLIGHT
BEGIN:STANDARD
TZOFFSETFROM:-0600
TZOFFSETTO:-0700
TZNAME:MST
DTSTART:20241103T080000
END:STANDARD
BEGIN:DAYLIGHT
TZOFFSETFROM:-0700
TZOFFSETTO:-0600
TZNAME:MDT
DTSTART:20250309T090000
END:DAYLIGHT
BEGIN:STANDARD
TZOFFSETFROM:-0600
TZOFFSETTO:-0700
TZNAME:MST
DTSTART:20251102T080000
END:STANDARD
BEGIN:DAYLIGHT
TZOFFSETFROM:-0700
TZOFFSETTO:-0600
TZNAME:MDT
DTSTART:20260308T090000
END:DAYLIGHT
BEGIN:STANDARD
TZOFFSETFROM:-0600
TZOFFSETTO:-0700
TZNAME:MST
DTSTART:20261101T080000
END:STANDARD
END:VTIMEZONE
BEGIN:VEVENT
DTSTART;VALUE=DATE:20250523
DTEND;VALUE=DATE:20250524
DTSTAMP:20260423T130921
CREATED:20240727T231816Z
LAST-MODIFIED:20240728T001111Z
UID:15236-1747958400-1748044799@saddleranchptio.org
SUMMARY:Last Day of School for Students
DESCRIPTION:
URL:https://saddleranchptio.org/calendar/last-day-of-school-for-students-2/
LOCATION:Saddle Ranch Elementary Library\, 805 W. English Sparrow Trail\, Highlands Ranch\, CO\, 80129\, United States
CATEGORIES:School Calendar
ATTACH;FMTTYPE=image/png:https://saddleranchptio.org/wp-content/uploads/2023/08/SRE-.png
END:VEVENT
BEGIN:VEVENT
DTSTART;VALUE=DATE:20250428
DTEND;VALUE=DATE:20250429
DTSTAMP:20260423T130921
CREATED:20240727T231910Z
LAST-MODIFIED:20240728T000938Z
UID:15238-1745798400-1745884799@saddleranchptio.org
SUMMARY:PD day - No students
DESCRIPTION:
URL:https://saddleranchptio.org/calendar/pd-day-no-students/
LOCATION:Saddle Ranch Elementary Library\, 805 W. English Sparrow Trail\, Highlands Ranch\, CO\, 80129\, United States
CATEGORIES:School Calendar
ATTACH;FMTTYPE=image/png:https://saddleranchptio.org/wp-content/uploads/2023/08/SRE-.png
END:VEVENT
BEGIN:VEVENT
DTSTART;VALUE=DATE:20250425
DTEND;VALUE=DATE:20250426
DTSTAMP:20260423T130921
CREATED:20240727T231955Z
LAST-MODIFIED:20240813T233744Z
UID:15240-1745539200-1745625599@saddleranchptio.org
SUMMARY:No School
DESCRIPTION:
URL:https://saddleranchptio.org/calendar/no-school-2/
LOCATION:Saddle Ranch Elementary Library\, 805 W. English Sparrow Trail\, Highlands Ranch\, CO\, 80129\, United States
CATEGORIES:School Calendar
ATTACH;FMTTYPE=image/png:https://saddleranchptio.org/wp-content/uploads/2023/08/SRE-.png
END:VEVENT
BEGIN:VEVENT
DTSTART;VALUE=DATE:20250317
DTEND;VALUE=DATE:20250323
DTSTAMP:20260423T130921
CREATED:20240727T232041Z
LAST-MODIFIED:20240727T232041Z
UID:15242-1742169600-1742687999@saddleranchptio.org
SUMMARY:Spring Break!
DESCRIPTION:
URL:https://saddleranchptio.org/calendar/spring-break/
LOCATION:Saddle Ranch Elementary Library\, 805 W. English Sparrow Trail\, Highlands Ranch\, CO\, 80129\, United States
CATEGORIES:School Calendar
ATTACH;FMTTYPE=image/png:https://saddleranchptio.org/wp-content/uploads/2023/08/SRE-.png
END:VEVENT
BEGIN:VEVENT
DTSTART;VALUE=DATE:20250217
DTEND;VALUE=DATE:20250218
DTSTAMP:20260423T130921
CREATED:20240727T232131Z
LAST-MODIFIED:20240728T001057Z
UID:15244-1739750400-1739836799@saddleranchptio.org
SUMMARY:District Holiday - No School
DESCRIPTION:
URL:https://saddleranchptio.org/calendar/district-holiday-no-school/
LOCATION:Saddle Ranch Elementary Library\, 805 W. English Sparrow Trail\, Highlands Ranch\, CO\, 80129\, United States
CATEGORIES:School Calendar
ATTACH;FMTTYPE=image/png:https://saddleranchptio.org/wp-content/uploads/2023/08/SRE-.png
END:VEVENT
BEGIN:VEVENT
DTSTART;VALUE=DATE:20250214
DTEND;VALUE=DATE:20250216
DTSTAMP:20260423T130921
CREATED:20240727T232402Z
LAST-MODIFIED:20240728T001026Z
UID:15248-1739491200-1739663999@saddleranchptio.org
SUMMARY:PD Day - no students
DESCRIPTION:
URL:https://saddleranchptio.org/calendar/pd-day-no-students-3/
LOCATION:Saddle Ranch Elementary Library\, 805 W. English Sparrow Trail\, Highlands Ranch\, CO\, 80129\, United States
CATEGORIES:School Activities,School Calendar
ATTACH;FMTTYPE=image/png:https://saddleranchptio.org/wp-content/uploads/2023/08/SRE-.png
END:VEVENT
BEGIN:VEVENT
DTSTART;VALUE=DATE:20250211
DTEND;VALUE=DATE:20250213
DTSTAMP:20260423T130921
CREATED:20240727T232215Z
LAST-MODIFIED:20240728T001039Z
UID:15246-1739232000-1739404799@saddleranchptio.org
SUMMARY:Spring & Class pictures - Van Gogh Photography
DESCRIPTION:
URL:https://saddleranchptio.org/calendar/pd-day-no-students-2/
LOCATION:Saddle Ranch Elementary Library\, 805 W. English Sparrow Trail\, Highlands Ranch\, CO\, 80129\, United States
CATEGORIES:Student Activity
ATTACH;FMTTYPE=image/png:https://saddleranchptio.org/wp-content/uploads/2023/08/SRE-.png
END:VEVENT
BEGIN:VEVENT
DTSTART;TZID=America/Denver:20250123T180000
DTEND;TZID=America/Denver:20250123T200000
DTSTAMP:20260423T130921
CREATED:20240730T013150Z
LAST-MODIFIED:20250122T022245Z
UID:15357-1737655200-1737662400@saddleranchptio.org
SUMMARY:Bingo Night
DESCRIPTION:One of Saddle Ranch’s favorite community events of the year will be returning on January 23rd at 6 pm. We know you had to make room for everything that came in over winter break\, so round up those gently used toys and bring them in to trade for bingo cards! \n\nDoors Open at 6:00 pm\nBingo begins at 6:15 PM\nBring gently used toys or $5 gift cards to trade in for bingo cards (up to 2 per person).\n\nStudents get to shop the prize room stocked with those toys! \nPlan ahead\, dinner will NOT be available\, but concessions will be available for purchase. CASH ONLY! \nChild care not provided.
URL:https://saddleranchptio.org/calendar/bingo-night-3/
LOCATION:Saddle Ranch Elementary (SRE)\, 805 W. English Sparrow Trail\, Highlands Ranch\, CO\, 80129\, United States
CATEGORIES:School Activities
ATTACH;FMTTYPE=image/png:https://saddleranchptio.org/wp-content/uploads/2025/01/Bingo-Night-2025-1.png
END:VEVENT
BEGIN:VEVENT
DTSTART;VALUE=DATE:20250120
DTEND;VALUE=DATE:20250121
DTSTAMP:20260423T130921
CREATED:20240727T232442Z
LAST-MODIFIED:20240813T233541Z
UID:15251-1737331200-1737417599@saddleranchptio.org
SUMMARY:Martin Luther King Jr. Day (District Offices Closed)
DESCRIPTION:
URL:https://saddleranchptio.org/calendar/district-holiday-no-school-2/
LOCATION:Saddle Ranch Elementary Library\, 805 W. English Sparrow Trail\, Highlands Ranch\, CO\, 80129\, United States
CATEGORIES:School Calendar
ATTACH;FMTTYPE=image/png:https://saddleranchptio.org/wp-content/uploads/2023/08/SRE-.png
END:VEVENT
BEGIN:VEVENT
DTSTART;VALUE=DATE:20250117
DTEND;VALUE=DATE:20250118
DTSTAMP:20260423T130921
CREATED:20240727T232758Z
LAST-MODIFIED:20240813T233431Z
UID:15256-1737072000-1737158399@saddleranchptio.org
SUMMARY:Professional Development Day (No Students)
DESCRIPTION:
URL:https://saddleranchptio.org/calendar/winter-break/
LOCATION:Saddle Ranch Elementary Library\, 805 W. English Sparrow Trail\, Highlands Ranch\, CO\, 80129\, United States
CATEGORIES:School Calendar
ATTACH;FMTTYPE=image/png:https://saddleranchptio.org/wp-content/uploads/2023/08/SRE-.png
END:VEVENT
BEGIN:VEVENT
DTSTART;VALUE=DATE:20250106
DTEND;VALUE=DATE:20250108
DTSTAMP:20260423T130921
CREATED:20240727T232834Z
LAST-MODIFIED:20240813T233321Z
UID:15258-1736121600-1736294399@saddleranchptio.org
SUMMARY:Teacher Work Day - no students
DESCRIPTION:
URL:https://saddleranchptio.org/calendar/teacher-work-day-no-students/
LOCATION:Saddle Ranch Elementary Library\, 805 W. English Sparrow Trail\, Highlands Ranch\, CO\, 80129\, United States
CATEGORIES:School Calendar
ATTACH;FMTTYPE=image/png:https://saddleranchptio.org/wp-content/uploads/2023/08/SRE-.png
END:VEVENT
BEGIN:VEVENT
DTSTART;VALUE=DATE:20250101
DTEND;VALUE=DATE:20250104
DTSTAMP:20260423T130921
CREATED:20240813T233147Z
LAST-MODIFIED:20240813T233147Z
UID:15651-1735689600-1735948799@saddleranchptio.org
SUMMARY:Winter Break (Schools Closed)
DESCRIPTION:
URL:https://saddleranchptio.org/calendar/winter-break-schools-closed-2/
LOCATION:CO
CATEGORIES:School Calendar
END:VEVENT
BEGIN:VEVENT
DTSTART;VALUE=DATE:20250101
DTEND;VALUE=DATE:20250102
DTSTAMP:20260423T130921
CREATED:20240813T233108Z
LAST-MODIFIED:20240813T233108Z
UID:15649-1735689600-1735775999@saddleranchptio.org
SUMMARY:New Years Day (District Offices Closed)
DESCRIPTION:
URL:https://saddleranchptio.org/calendar/new-years-day-district-offices-closed/
LOCATION:CO
CATEGORIES:School Calendar
END:VEVENT
BEGIN:VEVENT
DTSTART;VALUE=DATE:20241224
DTEND;VALUE=DATE:20241226
DTSTAMP:20260423T130921
CREATED:20240813T232950Z
LAST-MODIFIED:20240813T232950Z
UID:15647-1734998400-1735171199@saddleranchptio.org
SUMMARY:Christmas Holiday (District Offices Closed)
DESCRIPTION:
URL:https://saddleranchptio.org/calendar/christmas-holiday-district-offices-closed/
LOCATION:CO
CATEGORIES:School Calendar
END:VEVENT
BEGIN:VEVENT
DTSTART;VALUE=DATE:20241222
DTEND;VALUE=DATE:20250101
DTSTAMP:20260423T130921
CREATED:20240813T232911Z
LAST-MODIFIED:20240813T232911Z
UID:15645-1734825600-1735689599@saddleranchptio.org
SUMMARY:Winter Break (Schools Closed)
DESCRIPTION:
URL:https://saddleranchptio.org/calendar/winter-break-schools-closed/
LOCATION:CO
CATEGORIES:School Calendar
END:VEVENT
BEGIN:VEVENT
DTSTART;VALUE=DATE:20241220
DTEND;VALUE=DATE:20241221
DTSTAMP:20260423T130921
CREATED:20240813T232802Z
LAST-MODIFIED:20240813T232802Z
UID:15643-1734652800-1734739199@saddleranchptio.org
SUMMARY:Teacher Work Day (No Students)
DESCRIPTION:
URL:https://saddleranchptio.org/calendar/teacher-work-day-no-students-2/
LOCATION:CO
CATEGORIES:School Calendar
END:VEVENT
BEGIN:VEVENT
DTSTART;TZID=America/Denver:20240919T160000
DTEND;TZID=America/Denver:20240919T170000
DTSTAMP:20260423T130921
CREATED:20240904T223459Z
LAST-MODIFIED:20240904T223459Z
UID:15700-1726761600-1726765200@saddleranchptio.org
SUMMARY:Book Club
DESCRIPTION:SRE amazing mental health team and principal are facilitating an important conversation at the school!
URL:https://saddleranchptio.org/calendar/book-club/
LOCATION:Saddle Ranch Elementary Library\, 805 W. English Sparrow Trail\, Highlands Ranch\, CO\, 80129\, United States
CATEGORIES:School Activities
ATTACH;FMTTYPE=image/jpeg:https://saddleranchptio.org/wp-content/uploads/2024/09/Book-Club.jpeg
END:VEVENT
BEGIN:VEVENT
DTSTART;VALUE=DATE:20241125
DTEND;VALUE=DATE:20241130
DTSTAMP:20260423T130921
CREATED:20240727T232510Z
LAST-MODIFIED:20240813T232614Z
UID:15253-1732492800-1732924799@saddleranchptio.org
SUMMARY:Thanksgiving Break!
DESCRIPTION:November 25 – Compensation Day (Schools Closed)\nNovember 26 – 29 – Thanksgiving Break (Schools Closed)\nNovember 28 – 29 – Thanksgiving Holiday (District Offices Closed)
URL:https://saddleranchptio.org/calendar/pd-day-no-students-4/
LOCATION:Saddle Ranch Elementary Library\, 805 W. English Sparrow Trail\, Highlands Ranch\, CO\, 80129\, United States
CATEGORIES:School Calendar
ATTACH;FMTTYPE=image/png:https://saddleranchptio.org/wp-content/uploads/2023/08/SRE-.png
END:VEVENT
BEGIN:VEVENT
DTSTART;TZID=America/Denver:20241121T170000
DTEND;TZID=America/Denver:20241121T210000
DTSTAMP:20260423T130921
CREATED:20240910T013917Z
LAST-MODIFIED:20240910T014249Z
UID:15708-1732208400-1732222800@saddleranchptio.org
SUMMARY:Saddle Ranch Spirit Night at Main Event!
DESCRIPTION:Raise some FUNds and have some FUN! Saddle Ranch PTIO is hosting a Spirit Night Fundraiser at Main Event on Thursday\, 5:00 PM – 9:00 PM\,  20% of all sales will go to support our school!
URL:https://saddleranchptio.org/calendar/saddle-ranch-spirit-night-at-main-event-2/
LOCATION:Main Event\, 64 Centennial Blvd\, Highlands Ranch\, CO\, 80129\, United States
CATEGORIES:Fundraiser,Student Activity
ATTACH;FMTTYPE=image/png:https://saddleranchptio.org/wp-content/uploads/2024/09/Main-Event-Spirit-Night-Fundraiser.png
END:VEVENT
BEGIN:VEVENT
DTSTART;TZID=America/Denver:20240919T160000
DTEND;TZID=America/Denver:20240919T170000
DTSTAMP:20260423T130921
CREATED:20240904T223459Z
LAST-MODIFIED:20240904T223459Z
UID:15700-1726761600-1726765200@saddleranchptio.org
SUMMARY:Book Club
DESCRIPTION:SRE amazing mental health team and principal are facilitating an important conversation at the school!
URL:https://saddleranchptio.org/calendar/book-club/
LOCATION:Saddle Ranch Elementary Library\, 805 W. English Sparrow Trail\, Highlands Ranch\, CO\, 80129\, United States
CATEGORIES:School Activities
ATTACH;FMTTYPE=image/jpeg:https://saddleranchptio.org/wp-content/uploads/2024/09/Book-Club.jpeg
END:VEVENT
BEGIN:VEVENT
DTSTART;VALUE=DATE:20241105
DTEND;VALUE=DATE:20241107
DTSTAMP:20260423T130921
CREATED:20240727T233052Z
LAST-MODIFIED:20240727T233052Z
UID:15263-1730764800-1730937599@saddleranchptio.org
SUMMARY:Picture Retakes - Van Gogh Photography
DESCRIPTION:
URL:https://saddleranchptio.org/calendar/picture-retakes-van-gogh-photography/
LOCATION:Saddle Ranch Elementary Library\, 805 W. English Sparrow Trail\, Highlands Ranch\, CO\, 80129\, United States
CATEGORIES:School Calendar
ATTACH;FMTTYPE=image/png:https://saddleranchptio.org/wp-content/uploads/2023/08/SRE-.png
END:VEVENT
BEGIN:VEVENT
DTSTART;VALUE=DATE:20241014
DTEND;VALUE=DATE:20241019
DTSTAMP:20260423T130921
CREATED:20240813T231625Z
LAST-MODIFIED:20240813T231647Z
UID:15637-1728864000-1729295999@saddleranchptio.org
SUMMARY:Fall Break - No School
DESCRIPTION:
URL:https://saddleranchptio.org/calendar/fall-break-no-school/
LOCATION:CO
CATEGORIES:School Activities,School Calendar
END:VEVENT
BEGIN:VEVENT
DTSTART;TZID=America/Denver:20240919T160000
DTEND;TZID=America/Denver:20240919T170000
DTSTAMP:20260423T130921
CREATED:20240904T223459Z
LAST-MODIFIED:20240904T223459Z
UID:15700-1726761600-1726765200@saddleranchptio.org
SUMMARY:Book Club
DESCRIPTION:SRE amazing mental health team and principal are facilitating an important conversation at the school!
URL:https://saddleranchptio.org/calendar/book-club/
LOCATION:Saddle Ranch Elementary Library\, 805 W. English Sparrow Trail\, Highlands Ranch\, CO\, 80129\, United States
CATEGORIES:School Activities
ATTACH;FMTTYPE=image/jpeg:https://saddleranchptio.org/wp-content/uploads/2024/09/Book-Club.jpeg
END:VEVENT
BEGIN:VEVENT
DTSTART;TZID=America/Denver:20241004T080000
DTEND;TZID=America/Denver:20241004T140000
DTSTAMP:20260423T130921
CREATED:20240727T224833Z
LAST-MODIFIED:20240927T153325Z
UID:15219-1728028800-1728050400@saddleranchptio.org
SUMMARY:Mustang Stampede
DESCRIPTION:This is a BIG deal for our school. EVERY student gets to participate\, but we also hope EVERY student will rise at least $1 to support our SRE community. Click HERE to learn more about this event and fundraising prizes for your student and please join us as we cheer on ALL the classrooms as they run the Mustang Stampede! \nMustang Stampede Schedule: \n6th Grade \nGremore 8:55 AM \nWasielewski 9:10 AM \n4th Grade \nChavez 9:35 AM \nUsher 9:50 AM \n3rd Grade \nBakke 10:15 AM \nKahler 10:30 AM \n5th Grade \nElmore 10:55 AM \nLester 11:10 AM \n2nd Grade \nFranklin 12:05 PM \nWoods 12:20 PM \n1st Grade \nBoulton 12:45 PM \nHert 1:00 PM \nKindergarten 1:25 PM – All run together \nBullock  \nHerrin \nJones
URL:https://saddleranchptio.org/calendar/mustang-stampede/
LOCATION:Saddle Ranch Elementary (SRE)\, 805 W. English Sparrow Trail\, Highlands Ranch\, CO\, 80129\, United States
CATEGORIES:Fundraiser,School Activities,Student Activity
ATTACH;FMTTYPE=image/png:https://saddleranchptio.org/wp-content/uploads/2024/07/Mustang-Stampede.png
END:VEVENT
BEGIN:VEVENT
DTSTART;VALUE=DATE:20240930
DTEND;VALUE=DATE:20241001
DTSTAMP:20260423T130921
CREATED:20240727T233445Z
LAST-MODIFIED:20240727T233629Z
UID:15265-1727654400-1727740799@saddleranchptio.org
SUMMARY:Kindie Color Celebration: Wear Rainbow
DESCRIPTION:
URL:https://saddleranchptio.org/calendar/kindie-color-celebration-wear-rainbow/
LOCATION:Saddle Ranch Elementary Library\, 805 W. English Sparrow Trail\, Highlands Ranch\, CO\, 80129\, United States
CATEGORIES:Student Activity
ATTACH;FMTTYPE=image/png:https://saddleranchptio.org/wp-content/uploads/2023/08/SRE-.png
END:VEVENT
BEGIN:VEVENT
DTSTART;TZID=America/Denver:20240919T153000
DTEND;TZID=America/Denver:20240919T170000
DTSTAMP:20260423T130921
CREATED:20240727T223414Z
LAST-MODIFIED:20240813T232335Z
UID:15217-1726759800-1726765200@saddleranchptio.org
SUMMARY:Fall Conferences
DESCRIPTION:More info coming soon.
URL:https://saddleranchptio.org/calendar/fall-conferences/
LOCATION:Saddle Ranch Elementary (SRE)\, 805 W. English Sparrow Trail\, Highlands Ranch\, CO\, 80129\, United States
CATEGORIES:School Activities,School Calendar
END:VEVENT
BEGIN:VEVENT
DTSTART;VALUE=DATE:20240923
DTEND;VALUE=DATE:20240924
DTSTAMP:20260423T130921
CREATED:20240727T233535Z
LAST-MODIFIED:20240727T233535Z
UID:15267-1727049600-1727135999@saddleranchptio.org
SUMMARY:Kindie Color Celebration: Wear Pink and/or Purple
DESCRIPTION:
URL:https://saddleranchptio.org/calendar/kindie-color-celebration-wear-pink-and-or-purple/
LOCATION:Saddle Ranch Elementary Library\, 805 W. English Sparrow Trail\, Highlands Ranch\, CO\, 80129\, United States
CATEGORIES:Student Activity
ATTACH;FMTTYPE=image/png:https://saddleranchptio.org/wp-content/uploads/2023/08/SRE-.png
END:VEVENT
BEGIN:VEVENT
DTSTART;VALUE=DATE:20240920
DTEND;VALUE=DATE:20240921
DTSTAMP:20260423T130921
CREATED:20240813T232007Z
LAST-MODIFIED:20240813T232007Z
UID:15640-1726790400-1726876799@saddleranchptio.org
SUMMARY:Professional Development Day (No Students)
DESCRIPTION:
URL:https://saddleranchptio.org/calendar/professional-development-day-no-students/
LOCATION:CO
CATEGORIES:School Calendar
END:VEVENT
BEGIN:VEVENT
DTSTART;TZID=America/Denver:20240919T160000
DTEND;TZID=America/Denver:20240919T170000
DTSTAMP:20260423T130921
CREATED:20240904T223459Z
LAST-MODIFIED:20240904T223459Z
UID:15700-1726761600-1726765200@saddleranchptio.org
SUMMARY:Book Club
DESCRIPTION:SRE amazing mental health team and principal are facilitating an important conversation at the school!
URL:https://saddleranchptio.org/calendar/book-club/
LOCATION:Saddle Ranch Elementary Library\, 805 W. English Sparrow Trail\, Highlands Ranch\, CO\, 80129\, United States
CATEGORIES:School Activities
ATTACH;FMTTYPE=image/jpeg:https://saddleranchptio.org/wp-content/uploads/2024/09/Book-Club.jpeg
END:VEVENT
BEGIN:VEVENT
DTSTART;TZID=America/Denver:20240919T153000
DTEND;TZID=America/Denver:20240919T170000
DTSTAMP:20260423T130921
CREATED:20240727T223414Z
LAST-MODIFIED:20240813T232335Z
UID:15217-1726759800-1726765200@saddleranchptio.org
SUMMARY:Fall Conferences
DESCRIPTION:More info coming soon.
URL:https://saddleranchptio.org/calendar/fall-conferences/
LOCATION:Saddle Ranch Elementary (SRE)\, 805 W. English Sparrow Trail\, Highlands Ranch\, CO\, 80129\, United States
CATEGORIES:School Activities,School Calendar
END:VEVENT
END:VCALENDAR