BEGIN:VCALENDAR
VERSION:2.0
PRODID:-//Saddle Ranch Elementary PTIO - ECPv6.15.20//NONSGML v1.0//EN
CALSCALE:GREGORIAN
METHOD:PUBLISH
X-WR-CALNAME:Saddle Ranch Elementary PTIO
X-ORIGINAL-URL:https://saddleranchptio.org
X-WR-CALDESC:Events for Saddle Ranch Elementary PTIO
REFRESH-INTERVAL;VALUE=DURATION:PT1H
X-Robots-Tag:noindex
X-PUBLISHED-TTL:PT1H
BEGIN:VTIMEZONE
TZID:America/Denver
BEGIN:DAYLIGHT
TZOFFSETFROM:-0700
TZOFFSETTO:-0600
TZNAME:MDT
DTSTART:20240310T090000
END:DAYLIGHT
BEGIN:STANDARD
TZOFFSETFROM:-0600
TZOFFSETTO:-0700
TZNAME:MST
DTSTART:20241103T080000
END:STANDARD
BEGIN:DAYLIGHT
TZOFFSETFROM:-0700
TZOFFSETTO:-0600
TZNAME:MDT
DTSTART:20250309T090000
END:DAYLIGHT
BEGIN:STANDARD
TZOFFSETFROM:-0600
TZOFFSETTO:-0700
TZNAME:MST
DTSTART:20251102T080000
END:STANDARD
BEGIN:DAYLIGHT
TZOFFSETFROM:-0700
TZOFFSETTO:-0600
TZNAME:MDT
DTSTART:20260308T090000
END:DAYLIGHT
BEGIN:STANDARD
TZOFFSETFROM:-0600
TZOFFSETTO:-0700
TZNAME:MST
DTSTART:20261101T080000
END:STANDARD
BEGIN:DAYLIGHT
TZOFFSETFROM:-0700
TZOFFSETTO:-0600
TZNAME:MDT
DTSTART:20270314T090000
END:DAYLIGHT
BEGIN:STANDARD
TZOFFSETFROM:-0600
TZOFFSETTO:-0700
TZNAME:MST
DTSTART:20271107T080000
END:STANDARD
END:VTIMEZONE
BEGIN:VEVENT
DTSTART;TZID=America/Denver:20250903T170000
DTEND;TZID=America/Denver:20250903T190000
DTSTAMP:20260424T011743
CREATED:20250826T171617Z
LAST-MODIFIED:20250826T171617Z
UID:21540-1756918800-1756926000@saddleranchptio.org
SUMMARY:PTIO Mix and Mingle
DESCRIPTION:Have you ever been curious about PTIO? We’re going to be at Prost on \nSeptember\, 3rd \n5:00-7:00 \n53 Centennial Blvd\, Highlands Ranch\, CO 80129 \nBring your kids\, grab a drink\, and hang out. Get all your questions answered and meet some new or Old friends! \nPTIO will be in a blue or a saddle ranch shirt.
URL:https://saddleranchptio.org/calendar/ptio-mix-and-mingle/
LOCATION:Prost Brewry\, 53 Centennial Blvd\,\, Highlands Ranch\, co\, 80129
CATEGORIES:Community Event
END:VEVENT
BEGIN:VEVENT
DTSTART;TZID=America/Denver:20250908T180000
DTEND;TZID=America/Denver:20250908T193000
DTSTAMP:20260424T011743
CREATED:20250826T172013Z
LAST-MODIFIED:20250826T172013Z
UID:21544-1757354400-1757359800@saddleranchptio.org
SUMMARY:PTIO/ SAC meeting
DESCRIPTION:PTIO meeting at Saddle Ranch 6:00-7:30 \n  \nVirtual link: https://meet.google.com/hvw-emzt-auf \nSAC meeting to follow.
URL:https://saddleranchptio.org/calendar/ptio-sac-meeting/
CATEGORIES:Meetings
END:VEVENT
BEGIN:VEVENT
DTSTART;VALUE=DATE:20250926
DTEND;VALUE=DATE:20250927
DTSTAMP:20260424T011743
CREATED:20250826T172500Z
LAST-MODIFIED:20250916T174259Z
UID:21548-1758844800-1758931199@saddleranchptio.org
SUMMARY:Mustang Stampede
DESCRIPTION:Mustang stampede -4.0  \n  \n  \nMajor fundraiser to set up PTIO for success for the full year! With your help\, we will raise money to support field trips for each grade\, provide food and treats for teachers to show our staff some love\, and host fun events to build community throughout our best year!
URL:https://saddleranchptio.org/calendar/mustang-stampede-2/
LOCATION:Saddle Ranch Elementary (SRE)\, 805 W. English Sparrow Trail\, Highlands Ranch\, CO\, 80129\, United States
CATEGORIES:Fundraiser
END:VEVENT
BEGIN:VEVENT
DTSTART;TZID=America/Denver:20250926T160000
DTEND;TZID=America/Denver:20250926T170000
DTSTAMP:20260424T011743
CREATED:20250826T172620Z
LAST-MODIFIED:20250826T172620Z
UID:21553-1758902400-1758906000@saddleranchptio.org
SUMMARY:TRHS Parade at SRE
DESCRIPTION:
URL:https://saddleranchptio.org/calendar/trhs-parade-at-sre/
LOCATION:Saddle Ranch Elementary (SRE)\, 805 W. English Sparrow Trail\, Highlands Ranch\, CO\, 80129\, United States
CATEGORIES:Community Event
END:VEVENT
BEGIN:VEVENT
DTSTART;TZID=America/Denver:20251003T180000
DTEND;TZID=America/Denver:20251003T213000
DTSTAMP:20260424T011743
CREATED:20250826T173711Z
LAST-MODIFIED:20250916T174129Z
UID:21560-1759514400-1759527000@saddleranchptio.org
SUMMARY:Outdoor Movie Night!
DESCRIPTION:Grab your friends and a blanket and celebrate community! SRE will host an outdoor moving night (movie TBD). We’re inviting our new El Dorado family to join us as well\, so we can start to get to know each other. \n  \nSnacks and glow fun are available for purchase.
URL:https://saddleranchptio.org/calendar/outdoor-movie-night/
CATEGORIES:Community Event
END:VEVENT
BEGIN:VEVENT
DTSTART;TZID=America/Denver:20251013T180000
DTEND;TZID=America/Denver:20251013T193000
DTSTAMP:20260424T011743
CREATED:20250826T172728Z
LAST-MODIFIED:20250826T172827Z
UID:21555-1760378400-1760383800@saddleranchptio.org
SUMMARY:PTIO/ SAC meeting
DESCRIPTION:PTIO meeting virtual link: https://meet.google.com/hvw-emzt-auf \n  \nSAC to follow PTIO meeting
URL:https://saddleranchptio.org/calendar/ptio-sac-meeting-2/
LOCATION:Saddle Ranch Elementary Library\, 805 W. English Sparrow Trail\, Highlands Ranch\, CO\, 80129\, United States
CATEGORIES:Meetings
END:VEVENT
BEGIN:VEVENT
DTSTART;TZID=America/Denver:20251110T180000
DTEND;TZID=America/Denver:20251110T193000
DTSTAMP:20260424T011743
CREATED:20250826T173030Z
LAST-MODIFIED:20250826T173030Z
UID:21558-1762797600-1762803000@saddleranchptio.org
SUMMARY:PTIO/ SAC meeting
DESCRIPTION:PTIO meeting virtual link: Click here \n  \nSAC to follow PTIO meeting.
URL:https://saddleranchptio.org/calendar/ptio-sac-meeting-3/
LOCATION:Saddle Ranch Elementary Library\, 805 W. English Sparrow Trail\, Highlands Ranch\, CO\, 80129\, United States
CATEGORIES:Meetings
END:VEVENT
BEGIN:VEVENT
DTSTART;TZID=America/Denver:20251208T180000
DTEND;TZID=America/Denver:20251208T193000
DTSTAMP:20260424T011743
CREATED:20250826T174103Z
LAST-MODIFIED:20250826T174103Z
UID:21562-1765216800-1765222200@saddleranchptio.org
SUMMARY:PTIO/ SAC meeting
DESCRIPTION:PTIO Virtual LINK \n  \nSAC meeting to follow PTIO meeting 7:30-8:30
URL:https://saddleranchptio.org/calendar/ptio-sac-meeting-4/
LOCATION:Saddle Ranch Elementary Library\, 805 W. English Sparrow Trail\, Highlands Ranch\, CO\, 80129\, United States
CATEGORIES:Meetings
END:VEVENT
BEGIN:VEVENT
DTSTART;TZID=America/Denver:20260112T080000
DTEND;TZID=America/Denver:20260112T170000
DTSTAMP:20260424T011743
CREATED:20260113T002412Z
LAST-MODIFIED:20260113T002412Z
UID:23249-1768204800-1768237200@saddleranchptio.org
SUMMARY:PTIO meeting Jan. 12th 6:00 @ school
DESCRIPTION:  \nVirtual link \nhttps://out.smore.com/e/wu87gv/F0kgxe?__$u__
URL:https://saddleranchptio.org/calendar/ptio-meeting-jan-12th-600-school/
END:VEVENT
BEGIN:VEVENT
DTSTART;VALUE=DATE:20260127
DTEND;VALUE=DATE:20260128
DTSTAMP:20260424T011743
CREATED:20260122T163728Z
LAST-MODIFIED:20260122T163728Z
UID:23363-1769472000-1769558399@saddleranchptio.org
SUMMARY:SRE Resturant night- RED ROBIN
DESCRIPTION:Join us on January 27th for this month’s restaurant night. Red Robin 63 Centennial Boulevard Highlands Ranch\, CO
URL:https://saddleranchptio.org/calendar/sre-resturant-night-red-robin/
CATEGORIES:Restaurant Night
END:VEVENT
BEGIN:VEVENT
DTSTART;TZID=America/Denver:20260209T180000
DTEND;TZID=America/Denver:20260209T190000
DTSTAMP:20260424T011743
CREATED:20260122T163116Z
LAST-MODIFIED:20260122T163116Z
UID:23358-1770660000-1770663600@saddleranchptio.org
SUMMARY:Carnival Kick off Meeting
DESCRIPTION:Have a great idea about the end-of-the-era carnival? Join us on February 9th at 6:00 in the library at SRE. We will discuss games\, food\, and all the fun. This is not a commitment of the committee unless you have the time and can join us in making this an amazing send-off.
URL:https://saddleranchptio.org/calendar/carnival-kick-off-meeting/
LOCATION:Saddle Ranch Elementary (SRE)\, 805 W. English Sparrow Trail\, Highlands Ranch\, CO\, 80129\, United States
END:VEVENT
BEGIN:VEVENT
DTSTART;TZID=America/Denver:20260418T180000
DTEND;TZID=America/Denver:20260418T220000
DTSTAMP:20260424T011743
CREATED:20260122T163546Z
LAST-MODIFIED:20260122T163546Z
UID:23360-1776535200-1776549600@saddleranchptio.org
SUMMARY:Bids\, Bites and Brews SRE Spring Auction
DESCRIPTION:Come join us for an enjoyable evening with our SRE school community. We will have many goodies up for auction to raise funds forn at Golden Ridge. Remember to bring your thinking caps for a special one-night trivia game. Teams of six can pay $30 to compete for an exciting new location prize! \n  \n** Food truck and bar available for personal dinner purchase. Light desserts supplied.
URL:https://saddleranchptio.org/calendar/bids-bites-and-brews-sre-spring-auction/
LOCATION:Lone Tree Brewing Company
CATEGORIES:Fundraiser
END:VEVENT
BEGIN:VEVENT
DTSTART;TZID=America/Denver:20260508T163000
DTEND;TZID=America/Denver:20260508T183000
DTSTAMP:20260424T011743
CREATED:20260113T003540Z
LAST-MODIFIED:20260113T003540Z
UID:23254-1778257800-1778265000@saddleranchptio.org
SUMMARY:SRE Send off Carnival
DESCRIPTION:🎡 End of an Era\, Start of the Fun! 🎡 \nJoin us as we send off our school building in the best way possible—with a community carnival! This end-of-the-year celebration is all about connection\, laughter\, and making memories together with both current families and alumniwho have been part of this special place over the years. \nCome reconnect with familiar faces\, meet new ones\, and enjoy a joyful afternoon of fun as we celebrate everything this building has meant to our community—and the exciting road ahead. \n📅 Thursday\, May 8⏰ 4:30–6:30 PM (after school)🌦 Weather make-up date: May 15 \nBring your friends\, bring your memories\, and bring your carnival spirit—we can’t wait to celebrate with you! 🎉
URL:https://saddleranchptio.org/calendar/sre-send-off-carnival/
LOCATION:Saddle Ranch Elementary\, 805 English Sparrow Tr\, Highlands Ranch\, CO\, 80129
END:VEVENT
END:VCALENDAR