BEGIN:VCALENDAR
VERSION:2.0
PRODID:-//Saddle Ranch Elementary PTIO - ECPv6.15.20//NONSGML v1.0//EN
CALSCALE:GREGORIAN
METHOD:PUBLISH
X-WR-CALNAME:Saddle Ranch Elementary PTIO
X-ORIGINAL-URL:https://saddleranchptio.org
X-WR-CALDESC:Events for Saddle Ranch Elementary PTIO
REFRESH-INTERVAL;VALUE=DURATION:PT1H
X-Robots-Tag:noindex
X-PUBLISHED-TTL:PT1H
BEGIN:VTIMEZONE
TZID:America/Denver
BEGIN:DAYLIGHT
TZOFFSETFROM:-0700
TZOFFSETTO:-0600
TZNAME:MDT
DTSTART:20230312T090000
END:DAYLIGHT
BEGIN:STANDARD
TZOFFSETFROM:-0600
TZOFFSETTO:-0700
TZNAME:MST
DTSTART:20231105T080000
END:STANDARD
BEGIN:DAYLIGHT
TZOFFSETFROM:-0700
TZOFFSETTO:-0600
TZNAME:MDT
DTSTART:20240310T090000
END:DAYLIGHT
BEGIN:STANDARD
TZOFFSETFROM:-0600
TZOFFSETTO:-0700
TZNAME:MST
DTSTART:20241103T080000
END:STANDARD
BEGIN:DAYLIGHT
TZOFFSETFROM:-0700
TZOFFSETTO:-0600
TZNAME:MDT
DTSTART:20250309T090000
END:DAYLIGHT
BEGIN:STANDARD
TZOFFSETFROM:-0600
TZOFFSETTO:-0700
TZNAME:MST
DTSTART:20251102T080000
END:STANDARD
END:VTIMEZONE
BEGIN:VEVENT
DTSTART;TZID=America/Denver:20240812T180000
DTEND;TZID=America/Denver:20240812T190000
DTSTAMP:20260424T053240
CREATED:20240727T210811Z
LAST-MODIFIED:20240727T220840Z
UID:15204-1723485600-1723489200@saddleranchptio.org
SUMMARY:PTIO Monthly Meeting
DESCRIPTION:PTIO meetings are held on the 2nd Monday of every month in the SRE library with an option to participate on video.*  \nMeetings are open to all parents\, caregivers and SRE staff. Feel free to drop in! Regular topics include: \n\nSchool updates from our Principal Mrs. Hawk\nA recap of available PTIO funds and how they are being spent\nDiscussion of past and upcoming PTIO events\nSharing of ideas to help teachers\, support staff\, students\, and SRE families\n\n* View the agenda for this meeting to get notes from previous meetings and a video link to participate online.
URL:https://saddleranchptio.org/calendar/ptio-monthly-meeting/
LOCATION:Saddle Ranch Elementary (SRE)\, 805 W. English Sparrow Trail\, Highlands Ranch\, CO\, 80129\, United States
CATEGORIES:Meetings
ATTACH;FMTTYPE=image/png:https://saddleranchptio.org/wp-content/uploads/2023/08/SRE-PTIO-Website-Banner.png
END:VEVENT
BEGIN:VEVENT
DTSTART;VALUE=DATE:20240909
DTEND;VALUE=DATE:20240910
DTSTAMP:20260424T053240
CREATED:20240727T233838Z
LAST-MODIFIED:20240727T233838Z
UID:15271-1725840000-1725926399@saddleranchptio.org
SUMMARY:Kindie Color Celebration: Wear GREEN
DESCRIPTION:
URL:https://saddleranchptio.org/calendar/kindie-color-celebration-wear-green/
LOCATION:Saddle Ranch Elementary Library\, 805 W. English Sparrow Trail\, Highlands Ranch\, CO\, 80129\, United States
CATEGORIES:Student Activity
ATTACH;FMTTYPE=image/png:https://saddleranchptio.org/wp-content/uploads/2023/08/SRE-.png
END:VEVENT
BEGIN:VEVENT
DTSTART;TZID=America/Denver:20240906T180000
DTEND;TZID=America/Denver:20240906T213000
DTSTAMP:20260424T053240
CREATED:20240727T223049Z
LAST-MODIFIED:20240904T222146Z
UID:15214-1725645600-1725658200@saddleranchptio.org
SUMMARY:Movie Night: Matilda
DESCRIPTION:Thank you to Les Schwab Highlands Ranch for sponsoring this event! \nJoin us for a movie under the stars with all of your Mustang pals as we settle in for a cinematic experience selected by SRE students and families! \nMovie will start at sunset so come early\, get your spots and have some fun socializing before we begin the movie. The students voted and the movie will be . . . . \nShowing Movie: Matilda\n\n5:00 pm – 6:00 PM Volunteers set up.\n6:15 PM – 7:00 PM: Arrive to get your seats and concessions\nThe movie Starts at sunset\n\n6:00 PM- 7:30 PM: Concession Sales \n\nWhat to Bring: \n\nPicnic blankets\nCamping chairs\nFood or Drinks\nCash for Concessions – nut-free popcorn\, candy\, and glow accessories\n\n  \n  \n 
URL:https://saddleranchptio.org/calendar/movie-night/
LOCATION:Saddle Ranch Elementary (SRE)\, 805 W. English Sparrow Trail\, Highlands Ranch\, CO\, 80129\, United States
CATEGORIES:Community Event
ATTACH;FMTTYPE=image/png:https://saddleranchptio.org/wp-content/uploads/2024/07/Movie-Night.png
END:VEVENT
BEGIN:VEVENT
DTSTART;VALUE=DATE:20240903
DTEND;VALUE=DATE:20240904
DTSTAMP:20260424T053240
CREATED:20240727T234855Z
LAST-MODIFIED:20240727T234855Z
UID:15273-1725321600-1725407999@saddleranchptio.org
SUMMARY:Kindie Color Celebration: Wear YELLOW
DESCRIPTION:
URL:https://saddleranchptio.org/calendar/kindie-color-celebration-wear-yellow/
LOCATION:Saddle Ranch Elementary Library\, 805 W. English Sparrow Trail\, Highlands Ranch\, CO\, 80129\, United States
CATEGORIES:Student Activity
ATTACH;FMTTYPE=image/png:https://saddleranchptio.org/wp-content/uploads/2023/08/SRE-.png
END:VEVENT
BEGIN:VEVENT
DTSTART;VALUE=DATE:20240902
DTEND;VALUE=DATE:20240903
DTSTAMP:20260424T053240
CREATED:20240727T235221Z
LAST-MODIFIED:20240813T231848Z
UID:15275-1725235200-1725321599@saddleranchptio.org
SUMMARY:Labor Day (District Offices Closed)
DESCRIPTION:
URL:https://saddleranchptio.org/calendar/pd-day-no-school/
LOCATION:Saddle Ranch Elementary Library\, 805 W. English Sparrow Trail\, Highlands Ranch\, CO\, 80129\, United States
CATEGORIES:School Activities,School Calendar
ATTACH;FMTTYPE=image/png:https://saddleranchptio.org/wp-content/uploads/2023/08/SRE-.png
END:VEVENT
BEGIN:VEVENT
DTSTART;VALUE=DATE:20240827
DTEND;VALUE=DATE:20240828
DTSTAMP:20260424T053240
CREATED:20240730T003335Z
LAST-MODIFIED:20240730T004257Z
UID:15325-1724716800-1724803199@saddleranchptio.org
SUMMARY:Restaurant Night: High Society Pizza
DESCRIPTION:We have a way for you to take a night off from cooking\, let your kids eat at some of their favorite restaurants\, and you don’t have to feel guilty because a portion of your purchase goes to funding Saddle Ranch. \nHigh Society Pizza donating 15% of sales to Saddle Ranch Elementary on Aug.27th
URL:https://saddleranchptio.org/calendar/high-society-pizza-2/
LOCATION:High Society Pizza\, 2229 Wildcat Reserve Pkwy A1\, Highlands Ranch\, CO\, 80129
CATEGORIES:Restaurant Night
ATTACH;FMTTYPE=image/png:https://saddleranchptio.org/wp-content/uploads/2024/04/image000000.png
END:VEVENT
BEGIN:VEVENT
DTSTART;VALUE=DATE:20240826
DTEND;VALUE=DATE:20240827
DTSTAMP:20260424T053240
CREATED:20240727T235350Z
LAST-MODIFIED:20240727T235350Z
UID:15277-1724630400-1724716799@saddleranchptio.org
SUMMARY:Kindie Color Celebration: Wear ORANGE
DESCRIPTION:
URL:https://saddleranchptio.org/calendar/kindie-color-celebration-wear-orange/
LOCATION:Saddle Ranch Elementary (SRE)\, 805 W. English Sparrow Trail\, Highlands Ranch\, CO\, 80129\, United States
CATEGORIES:School Activities,Student Activity
END:VEVENT
BEGIN:VEVENT
DTSTART;VALUE=DATE:20240820
DTEND;VALUE=DATE:20240821
DTSTAMP:20260424T053240
CREATED:20240727T235443Z
LAST-MODIFIED:20240727T235443Z
UID:15279-1724112000-1724198399@saddleranchptio.org
SUMMARY:All School Picture Day - Van Gogh Photographers
DESCRIPTION:
URL:https://saddleranchptio.org/calendar/all-school-picture-day-van-gogh-photographers/
LOCATION:Saddle Ranch Elementary (SRE)\, 805 W. English Sparrow Trail\, Highlands Ranch\, CO\, 80129\, United States
CATEGORIES:School Activities,Student Activity
END:VEVENT
BEGIN:VEVENT
DTSTART;VALUE=DATE:20240819
DTEND;VALUE=DATE:20240820
DTSTAMP:20260424T053240
CREATED:20240727T235515Z
LAST-MODIFIED:20240727T235515Z
UID:15281-1724025600-1724111999@saddleranchptio.org
SUMMARY:Kindie Color Celebration: Wear RED!
DESCRIPTION:
URL:https://saddleranchptio.org/calendar/kindie-color-celebration-wear-red/
LOCATION:Saddle Ranch Elementary Library\, 805 W. English Sparrow Trail\, Highlands Ranch\, CO\, 80129\, United States
CATEGORIES:Student Activity
ATTACH;FMTTYPE=image/png:https://saddleranchptio.org/wp-content/uploads/2023/08/SRE-.png
END:VEVENT
BEGIN:VEVENT
DTSTART;TZID=America/Denver:20240815T170000
DTEND;TZID=America/Denver:20240815T193000
DTSTAMP:20260424T053240
CREATED:20240727T194818Z
LAST-MODIFIED:20240727T222111Z
UID:15175-1723741200-1723750200@saddleranchptio.org
SUMMARY:Back to School Bash
DESCRIPTION:Come for the SRE Back to School Open House and stay for the Back to School Bash fun! \nAll members of your SRE family are welcome ANYTIME between 5:00 PM – 7:30 PM \nWhat to Expect: \n\nMeet and Greet: Meet your child’s teachers and school staff.\nExplore the School: Join the fun SRE Scavenger Hunt with the kids.\nDelicious Food: Enjoy dinner and dessert from food trucks and Eileen’s Colossal Cookies.\nFun Activities: Participate in outdoor activities organized by our wonderful SRE PTIO volunteers.\nLearn and Support: Discover after-school programs and community resources.\nSpiritwear Swap: Bring old SRE Spiritwear to swap for something new.\nPaper Drive: Donate to our copy paper drive.\n\nVOLUNTEERS NEEDED! 
URL:https://saddleranchptio.org/calendar/back-to-school-bash/
LOCATION:Saddle Ranch Elementary (SRE)\, 805 W. English Sparrow Trail\, Highlands Ranch\, CO\, 80129\, United States
CATEGORIES:School Activities,School Calendar,Student Activity
ATTACH;FMTTYPE=image/png:https://saddleranchptio.org/wp-content/uploads/2024/07/2024-Back-To-School-Bash-Event-Flyer.png
END:VEVENT
BEGIN:VEVENT
DTSTART;TZID=America/Denver:20240812T180000
DTEND;TZID=America/Denver:20240812T190000
DTSTAMP:20260424T053240
CREATED:20240727T210811Z
LAST-MODIFIED:20240727T220840Z
UID:15204-1723485600-1723489200@saddleranchptio.org
SUMMARY:PTIO Monthly Meeting
DESCRIPTION:PTIO meetings are held on the 2nd Monday of every month in the SRE library with an option to participate on video.*  \nMeetings are open to all parents\, caregivers and SRE staff. Feel free to drop in! Regular topics include: \n\nSchool updates from our Principal Mrs. Hawk\nA recap of available PTIO funds and how they are being spent\nDiscussion of past and upcoming PTIO events\nSharing of ideas to help teachers\, support staff\, students\, and SRE families\n\n* View the agenda for this meeting to get notes from previous meetings and a video link to participate online.
URL:https://saddleranchptio.org/calendar/ptio-monthly-meeting/
LOCATION:Saddle Ranch Elementary (SRE)\, 805 W. English Sparrow Trail\, Highlands Ranch\, CO\, 80129\, United States
CATEGORIES:Meetings
ATTACH;FMTTYPE=image/png:https://saddleranchptio.org/wp-content/uploads/2023/08/SRE-PTIO-Website-Banner.png
END:VEVENT
BEGIN:VEVENT
DTSTART;TZID=America/Denver:20240809T150000
DTEND;TZID=America/Denver:20240809T153000
DTSTAMP:20260424T053240
CREATED:20240727T235622Z
LAST-MODIFIED:20240727T235622Z
UID:15283-1723215600-1723217400@saddleranchptio.org
SUMMARY:Kindergarten Popsicles on the Playground
DESCRIPTION:
URL:https://saddleranchptio.org/calendar/kindergarten-popsicles-on-the-playground/
LOCATION:Saddle Ranch Elementary Library\, 805 W. English Sparrow Trail\, Highlands Ranch\, CO\, 80129\, United States
CATEGORIES:Student Activity
ATTACH;FMTTYPE=image/png:https://saddleranchptio.org/wp-content/uploads/2023/08/SRE-.png
END:VEVENT
BEGIN:VEVENT
DTSTART;VALUE=DATE:20240807
DTEND;VALUE=DATE:20240809
DTSTAMP:20260424T053240
CREATED:20240727T235703Z
LAST-MODIFIED:20240727T235703Z
UID:15285-1722988800-1723161599@saddleranchptio.org
SUMMARY:Balanced Beginnings for Kindergarten
DESCRIPTION:
URL:https://saddleranchptio.org/calendar/balanced-beginnings-for-kindergarten/
LOCATION:Saddle Ranch Elementary Library\, 805 W. English Sparrow Trail\, Highlands Ranch\, CO\, 80129\, United States
CATEGORIES:Student Activity
ATTACH;FMTTYPE=image/png:https://saddleranchptio.org/wp-content/uploads/2023/08/SRE-.png
END:VEVENT
BEGIN:VEVENT
DTSTART;TZID=America/Denver:20240806T074500
DTEND;TZID=America/Denver:20240806T090000
DTSTAMP:20260424T053240
CREATED:20240727T190047Z
LAST-MODIFIED:20240727T230719Z
UID:15173-1722930300-1722934800@saddleranchptio.org
SUMMARY:Chalk the Walk + School Supplies Drop Off
DESCRIPTION:Welcome Back to School – Chalk the Walk!\nCome write a happy message for students at Saddle Ranch Elementary! Everyone is welcome to join us: neighbors\, school staff\, teachers\, and families. PTIO volunteers will have chalk ready on Tuesday\, August 6th from 7:45 AM to 9:00 AM during school supply drop-off. Bring your own chalk too if you want. Let’s make the sidewalks colorful and fun before school starts on Monday\, August 7th. \nGet Ready for School\, SRE Families!\nWe are excited for the 2024-2025 school year! Check the Saddle Ranch Elementary School website for important dates and info. Come to the School Supply Drop-Off to meet your teacher and see your classroom. It can help you feel ready and happy for the first day of school. You can also bring your school supplies on the first day if you want. \n.
URL:https://saddleranchptio.org/calendar/chalk-the-walk-school-supplies-drop-off-2/
LOCATION:Saddle Ranch Elementary (SRE)\, 805 W. English Sparrow Trail\, Highlands Ranch\, CO\, 80129\, United States
CATEGORIES:Community Event,School Activities,Student Activity
ATTACH;FMTTYPE=image/png:https://saddleranchptio.org/wp-content/uploads/2024/07/2024-Chalk-the-Walk-School-Supply-Drop-Off.png
END:VEVENT
BEGIN:VEVENT
DTSTART;TZID=America/Denver:20240724T151500
DTEND;TZID=America/Denver:20240724T153000
DTSTAMP:20260424T053240
CREATED:20240718T012958Z
LAST-MODIFIED:20240727T205234Z
UID:14745-1721834100-1721835000@saddleranchptio.org
SUMMARY:PTIO Meeting - First Meeting of the Year!
DESCRIPTION:PTIO meetings are held on the 2nd Monday of every month in the SRE library with an option to participate on video.*  \nMeetings are open to all parents\, caregivers and SRE staff. Feel free to drop in! Regular topics include: \n\nSchool updates from our Principal Mrs. Hawk\nA recap of available PTIO funds and how they are being spent\nDiscussion of past and upcoming PTIO events\nSharing of ideas to help teachers\, support staff\, students\, and SRE families\nView the agenda for this meeting\, along with notes from previous meetings and a video link to participate online.
URL:https://saddleranchptio.org/calendar/ptio-meeting-8/
LOCATION:Saddle Ranch Elementary Library\, 805 W. English Sparrow Trail\, Highlands Ranch\, CO\, 80129\, United States
CATEGORIES:Meetings
ATTACH;FMTTYPE=image/png:https://saddleranchptio.org/wp-content/uploads/2023/08/SRE-PTIO-Website-Banner.png
END:VEVENT
BEGIN:VEVENT
DTSTART;TZID=America/Denver:20240523T180000
DTEND;TZID=America/Denver:20240523T190000
DTSTAMP:20260424T053240
CREATED:20240425T235315Z
LAST-MODIFIED:20240717T233733Z
UID:13979-1716487200-1716490800@saddleranchptio.org
SUMMARY:PTIO Committee Check-In
DESCRIPTION:PTIO hosts check-ins every other week for volunteers and committee chairs. This is an informal opportunity to connect and discuss projects or events with one another. \n\nView the agenda for this meeting\, minutes from the previous meeting and the Google Meet Video Link to participate.
URL:https://saddleranchptio.org/calendar/ptio-committee-check-in-2-7-3-2-2/
LOCATION:997 English Sparrow Trail\, Highlands Ranch\, CO
CATEGORIES:Meetings
ATTACH;FMTTYPE=image/png:https://saddleranchptio.org/wp-content/uploads/2023/08/SRE-PTIO-Website-Banner.png
END:VEVENT
BEGIN:VEVENT
DTSTART;TZID=America/Denver:20240523T100000
DTEND;TZID=America/Denver:20240523T100000
DTSTAMP:20260424T053240
CREATED:20240424T025453Z
LAST-MODIFIED:20240424T025453Z
UID:13968-1716458400-1716458400@saddleranchptio.org
SUMMARY:Kindergarten Graduation
DESCRIPTION:See teachers for details
URL:https://saddleranchptio.org/calendar/kindergarten-graduation/
LOCATION:CO
CATEGORIES:Student Activity
END:VEVENT
BEGIN:VEVENT
DTSTART;VALUE=DATE:20240523
DTEND;VALUE=DATE:20240524
DTSTAMP:20260424T053240
CREATED:20240303T211453Z
LAST-MODIFIED:20240303T211453Z
UID:12637-1716422400-1716508799@saddleranchptio.org
SUMMARY:Last day of School for Students!
DESCRIPTION:
URL:https://saddleranchptio.org/calendar/last-day-of-school-for-students/
LOCATION:CO
CATEGORIES:School Calendar
END:VEVENT
BEGIN:VEVENT
DTSTART;TZID=America/Denver:20240522T180000
DTEND;TZID=America/Denver:20240522T180000
DTSTAMP:20260424T053240
CREATED:20240424T025046Z
LAST-MODIFIED:20240424T025046Z
UID:13966-1716400800-1716400800@saddleranchptio.org
SUMMARY:6th Grade Continuation
DESCRIPTION:See teachers for details
URL:https://saddleranchptio.org/calendar/6th-grade-continuation/
LOCATION:CO
END:VEVENT
BEGIN:VEVENT
DTSTART;VALUE=DATE:20240517
DTEND;VALUE=DATE:20240518
DTSTAMP:20260424T053240
CREATED:20240424T024952Z
LAST-MODIFIED:20240424T025001Z
UID:13964-1715904000-1715990399@saddleranchptio.org
SUMMARY:Field Day
DESCRIPTION:See teachers for details. 
URL:https://saddleranchptio.org/calendar/field-day/
LOCATION:CO
CATEGORIES:Student Activity
END:VEVENT
BEGIN:VEVENT
DTSTART;TZID=America/Denver:20240514T090000
DTEND;TZID=America/Denver:20240514T090000
DTSTAMP:20260424T053240
CREATED:20240424T024911Z
LAST-MODIFIED:20240424T024911Z
UID:13962-1715677200-1715677200@saddleranchptio.org
SUMMARY:Senior/6th Grade Breakfast
DESCRIPTION:See teachers for details.
URL:https://saddleranchptio.org/calendar/senior-6th-grade-breakfast/
LOCATION:CO
CATEGORIES:Student Activity
END:VEVENT
BEGIN:VEVENT
DTSTART;TZID=America/Denver:20240513T180000
DTEND;TZID=America/Denver:20240513T193000
DTSTAMP:20260424T053240
CREATED:20230822T232025Z
LAST-MODIFIED:20240514T000220Z
UID:6501-1715623200-1715628600@saddleranchptio.org
SUMMARY:PTIO Meeting
DESCRIPTION:PTIO meetings are held every month in the SRE library with an option to participate on video. Regular topics include: \n\nSchool updates from our new Principal Mrs. Hawk\nA recap of available PTIO funds and how they are being spent\nDiscussion of past and upcoming PTIO events\nSharing of ideas to help teachers\, support staff\, students\, and SRE families\nView the agenda for this meeting.
URL:https://saddleranchptio.org/calendar/ptio-meeting-25/
LOCATION:Saddle Ranch Elementary (SRE)\, 805 W. English Sparrow Trail\, Highlands Ranch\, CO\, 80129\, United States
CATEGORIES:Meetings
ATTACH;FMTTYPE=image/png:https://saddleranchptio.org/wp-content/uploads/2023/08/SRE-PTIO-Website-Banner.png
END:VEVENT
BEGIN:VEVENT
DTSTART;TZID=America/Denver:20240425T180000
DTEND;TZID=America/Denver:20240425T190000
DTSTAMP:20260424T053240
CREATED:20240425T230719Z
LAST-MODIFIED:20240425T230804Z
UID:13975-1714068000-1714071600@saddleranchptio.org
SUMMARY:PTIO Committee Check-In
DESCRIPTION:PTIO hosts check-ins every other week for volunteers and committee chairs. This is an informal opportunity to connect and discuss projects or events with one another. \n\nView the agenda for this meeting\, minutes from the previous meeting and the Google Meet Video Link to participate.
URL:https://saddleranchptio.org/calendar/ptio-committee-check-in-2-7-3-2/
LOCATION:ONLINE
CATEGORIES:Meetings
ATTACH;FMTTYPE=image/png:https://saddleranchptio.org/wp-content/uploads/2023/08/SRE-PTIO-Website-Banner.png
END:VEVENT
BEGIN:VEVENT
DTSTART;TZID=America/Denver:20240508T080000
DTEND;TZID=America/Denver:20240508T083000
DTSTAMP:20260424T053240
CREATED:20230728T013833Z
LAST-MODIFIED:20240502T003238Z
UID:4746-1715155200-1715157000@saddleranchptio.org
SUMMARY:Pastries with Parents
DESCRIPTION:As you approach the last few weeks of the school year\, take some time to enjoy a sweet treat\, courtesy of SRE PTIO\, with SRE families\, students and staff before school. 
URL:https://saddleranchptio.org/calendar/pastries-with-parents-2/
LOCATION:Saddle Ranch Elementary (SRE)\, 805 W. English Sparrow Trail\, Highlands Ranch\, CO\, 80129\, United States
CATEGORIES:Community Event
ATTACH;FMTTYPE=image/png:https://saddleranchptio.org/wp-content/uploads/2023/07/2024-SRE-Teacher-Appreciation-Week-1.png
END:VEVENT
BEGIN:VEVENT
DTSTART;VALUE=DATE:20240507
DTEND;VALUE=DATE:20240508
DTSTAMP:20260424T053240
CREATED:20240424T020429Z
LAST-MODIFIED:20240424T020937Z
UID:13947-1715040000-1715126399@saddleranchptio.org
SUMMARY:High Society Pizza
DESCRIPTION:Donating 15% of sales to Saddle Ranch Elementary  May 7th
URL:https://saddleranchptio.org/calendar/high-society-pizza/
LOCATION:High Society Pizza\, 2229 Wildcat Reserve Pkwy A1\, Highlands Ranch\, CO\, 80129
CATEGORIES:Restaurant Night
ATTACH;FMTTYPE=image/png:https://saddleranchptio.org/wp-content/uploads/2024/04/image000000.png
END:VEVENT
BEGIN:VEVENT
DTSTART;VALUE=DATE:20240506
DTEND;VALUE=DATE:20240511
DTSTAMP:20260424T053240
CREATED:20240502T004123Z
LAST-MODIFIED:20240502T130154Z
UID:14056-1714953600-1715385599@saddleranchptio.org
SUMMARY:SRE Teacher Appreciation Week May 6-10
DESCRIPTION:National Teacher Appreciation Week is May 6-10\, 2024. You change the world one child at a time\, and we THANK YOU. The good you are creating by dedicating your careers to making a positive impact in the lives of our students is sincerely appreciated!  \nPTIO will be celebrating SRE teachers and staff throughout the week. \nParents\, we hope you’ll help your students appreciate their teachers on TUESDAY by giving 1 single flower to their teachers and support staff to form a bouquet by the end of the day and THURSDAY by sending your students to school with a treat for their teachers and support staff. Click HERE to for a list of teachers’ favorite treats!  \nYOU can also enjoy a sweet treat at Pastries with Parents @ 8 AM on Thursday with SRE families\, students and staff before school.  \nThank You For Donating to Support SRE PTIO!\nWith your support\, we help ensure SRE staff and teachers feel supported and appreciated all-year long. \nThank you SRE teachers and staff for dedicating your careers to making a positive impact in the lives of our students.
URL:https://saddleranchptio.org/calendar/sre-teacher-appreciation-week/
LOCATION:Saddle Ranch Elementary (SRE)\, 805 W. English Sparrow Trail\, Highlands Ranch\, CO\, 80129\, United States
CATEGORIES:Community Event,Student Activity
ATTACH;FMTTYPE=image/png:https://saddleranchptio.org/wp-content/uploads/2024/05/SRE-Teacher-Appreciation-Week-2024.png
END:VEVENT
BEGIN:VEVENT
DTSTART;TZID=America/Denver:20240503T070000
DTEND;TZID=America/Denver:20240503T083000
DTSTAMP:20260424T053240
CREATED:20240424T023252Z
LAST-MODIFIED:20240424T023809Z
UID:13956-1714719600-1714725000@saddleranchptio.org
SUMMARY:Travelin' Tom's Coffee Truck Visiting Saddle Ranch
DESCRIPTION:Stop by between 7:00 am – 8:30 am on Friday\, May 3rd grab a cup of coffee or sponsor a special treat for the SRE staff and teachers!
URL:https://saddleranchptio.org/calendar/travelin-toms-coffee-truck-visiting-saddle-ranch-2/
LOCATION:Saddle Ranch Elementary\, 805 English Sparrow Tr\, Highlands Ranch\, CO\, 80129
CATEGORIES:Community Event
ATTACH;FMTTYPE=image/jpeg:https://saddleranchptio.org/wp-content/uploads/2024/04/Travelin-Toms.jpeg
END:VEVENT
BEGIN:VEVENT
DTSTART;VALUE=DATE:20240503
DTEND;VALUE=DATE:20240511
DTSTAMP:20260424T053240
CREATED:20240419T152134Z
LAST-MODIFIED:20240502T124622Z
UID:13816-1714694400-1715385599@saddleranchptio.org
SUMMARY:SRE READATHON May 3 - 10th! Read-a-thon Bingo Cards Coming Home on 5/2
DESCRIPTION:This year\, we’re having a Readathon to kick off Summer Reading and raise money for new books. We’ll receive 100% of our Readathon earnings for our Saddle Ranch Library.  \nHow does it work? It’s simple! \n\n\nStudents will ask sponsors to pay a flat fee to fill in their bingo card\, which is coming home on Thursday\, May 2nd! Kids can cross off multiple boxes with a single reading session. PLEASE SIGN YOUR  STUDENT’S COMPLETED CARD AND RETURN THE CARD TO THE LIBRARY. (There will be a box on Mrs. Meredith’s desk) \n\n\nIt’s fun and easy and gets kids excited for Summer Reading! Be sure to sign up with Douglas County Libraries for their Summer Reading Program. Registration opens in June. Cross off a free bingo square if you plan to register for summer reading at either DCL at www.dcl.org or DCSD’s Summer Reading Challenge at bit.ly/4dfcxcB  \n\n\nInvite family and friends. Payment can easily be made on MySchoolBucks. \n\n\n \n\n\nIf we raise just $15/student\, we’ll make $5\,000 for our library for new books. \n\n\nThe first 50 students to turn in completed cards will receive an Early Bird Prize\, and the class with the highest participation will earn a pizza party! \n\n\nEmail your “shelfies” (selfies) of your student reading a book to go on our Check Yourshelf Out wall of fame! jmeredith1@dcsdk12.org   \n\n\nWe’ll have lots of fun with Readathon Spirit Days!  \n\n\nFor the week of May 6th\, your child can bring a flashlight to the library to read in our forts. It will be an extra easy way to cross off some bingo squares! \n\n\nMonday\, May 6th: Reading knocks your socks off! CRAZY SOCK DAY \n\n\nTuesday\, May 7th: Reading is exercise for your brain. WEAR YOUR FAVORITE SPORTS TEAMS \n\n\nWednesday\, May 8th: Reading is better with a buddy. BRING A STUFFED ANIMAL \n\n\nThursday\, May 9th: Wild about reading. WEAR ANIMAL PRINTS \n\n\nFriday\, May 10th: Relax with a book. PJS DAY! \n\n\nThank you so much for supporting reading and our library! \nMrs. Meredith \nSaddle Ranch Elementary Library Specialist \n  \n\n—\n \n\n\n\n\n\nJoy Meredith \nLibrarian Specialist\nSaddle Ranch Elementary\n303-387-7089
URL:https://saddleranchptio.org/calendar/sre-readathon-may-3-10th/
LOCATION:CO
CATEGORIES:Student Activity
ATTACH;FMTTYPE=image/jpeg:https://saddleranchptio.org/wp-content/uploads/2024/04/Read-a-thon.jpeg
END:VEVENT
BEGIN:VEVENT
DTSTART;TZID=America/Denver:20240501T180000
DTEND;TZID=America/Denver:20240501T200000
DTSTAMP:20260424T053240
CREATED:20240419T152008Z
LAST-MODIFIED:20240424T010230Z
UID:13800-1714586400-1714593600@saddleranchptio.org
SUMMARY:AMC Community Night: King Fu Panda 4
DESCRIPTION:AMC Highlands Ranch will be hosting a private showing of Kung Fu Panda 4 for Saddle Ranch Elementary Wed\, May 1\, 2024 at 6:00 PM Join us for this fun community night. \nPlease note: \nPre-purchased tickets are required (no walk up sales). Ticket Sales End at Noon 5/1. \nThere will NOT be PTIO sponsored supervision at this event\, so please plan adult supervision for your children! \nPre-assigned seats are not available\, so plan accordingly for your arrival. \n\n\n\n\n06:00 PM – 08:00 PM MDT\n\n\n\n\n\nAMC Highlands Ranch 103 Centennial Blvd\, Highlands Ranch\, CO 80129\, USA \nKids (age 2-12) $11.99\nStudents or Seniors $13.49\nAdult $14.99
URL:https://saddleranchptio.org/calendar/amc-community-night-king-fu-panda-4/
LOCATION:CO
CATEGORIES:Community Event
ATTACH;FMTTYPE=image/webp:https://saddleranchptio.org/wp-content/uploads/2024/04/Panda.webp
END:VEVENT
BEGIN:VEVENT
DTSTART;VALUE=DATE:20240429
DTEND;VALUE=DATE:20240430
DTSTAMP:20260424T053240
CREATED:20240419T151431Z
LAST-MODIFIED:20240419T151757Z
UID:13788-1714348800-1714435199@saddleranchptio.org
SUMMARY:Last day to order yearbooks
DESCRIPTION:
URL:https://saddleranchptio.org/calendar/last-day-to-order-yearbooks/
LOCATION:CO
CATEGORIES:School Calendar
ATTACH;FMTTYPE=image/jpeg:https://saddleranchptio.org/wp-content/uploads/2024/04/yearbook.jpeg
END:VEVENT
END:VCALENDAR