BEGIN:VCALENDAR
VERSION:2.0
PRODID:-//Saddle Ranch Elementary PTIO - ECPv6.15.20//NONSGML v1.0//EN
CALSCALE:GREGORIAN
METHOD:PUBLISH
X-ORIGINAL-URL:https://saddleranchptio.org
X-WR-CALDESC:Events for Saddle Ranch Elementary PTIO
REFRESH-INTERVAL;VALUE=DURATION:PT1H
X-Robots-Tag:noindex
X-PUBLISHED-TTL:PT1H
BEGIN:VTIMEZONE
TZID:America/Denver
BEGIN:DAYLIGHT
TZOFFSETFROM:-0700
TZOFFSETTO:-0600
TZNAME:MDT
DTSTART:20230312T090000
END:DAYLIGHT
BEGIN:STANDARD
TZOFFSETFROM:-0600
TZOFFSETTO:-0700
TZNAME:MST
DTSTART:20231105T080000
END:STANDARD
BEGIN:DAYLIGHT
TZOFFSETFROM:-0700
TZOFFSETTO:-0600
TZNAME:MDT
DTSTART:20240310T090000
END:DAYLIGHT
BEGIN:STANDARD
TZOFFSETFROM:-0600
TZOFFSETTO:-0700
TZNAME:MST
DTSTART:20241103T080000
END:STANDARD
BEGIN:DAYLIGHT
TZOFFSETFROM:-0700
TZOFFSETTO:-0600
TZNAME:MDT
DTSTART:20250309T090000
END:DAYLIGHT
BEGIN:STANDARD
TZOFFSETFROM:-0600
TZOFFSETTO:-0700
TZNAME:MST
DTSTART:20251102T080000
END:STANDARD
END:VTIMEZONE
BEGIN:VEVENT
DTSTART;TZID=America/Denver:20241103T150000
DTEND;TZID=America/Denver:20241103T170000
DTSTAMP:20260424T035840
CREATED:20241007T134900Z
LAST-MODIFIED:20241010T002339Z
UID:16321-1730646000-1730653200@saddleranchptio.org
SUMMARY:The Wizards vs Highlands Ranch elementary school teachers
DESCRIPTION:The high-flying Harlem Wizards (think Harlem Globetrotters!) trick basketball team is coming to Highlands Ranch High School on Sunday\, November 3 rd ! The Wizards are playing Highlands Ranch elementary school teachers for an event filled with tricks\, hoops\, and alley-oops! Part basketball game\,\npart hilarious antics with audience participation\, and all fun for the whole family! Check out a sneak peek of what’s in store for this unforgettable evening! Enhanced Experiences are also available: \n\nCourtside Seating that includes a pre-game meet &amp; greet with 2 Harlem Wizards and souvenirs!\nWarm Up with the Wizards by purchasing a replica jersey to become a “Wiz Kid” and step onto\nthe court with the Wizards before the game!\n\nGame starts at 3 pm and the doors open at 2 pm. Tickets start at $15 and go on sale October 1st. Children ages 3 and under are FREE!\n\nOur school earns $2 per ticket\, so this is a great way to support our school! We also have volunteer opportunities available for this event. Volunteers receive FREE admission to the game AND receive a 20% discount on Wizards merchandise!\n\nSign up here to volunteer at the game!\n\nORDER HARLEM WIZARDS TICKETS
URL:https://saddleranchptio.org/calendar/the-wizards-vs-highlands-ranch-elementary-school-teachers/
LOCATION:Highlands Ranch High School\, 9375 Cresthill Ln\, Highlands Ranch\, CO\, 80130\, United States
CATEGORIES:Fundraiser
ATTACH;FMTTYPE=image/png:https://saddleranchptio.org/wp-content/uploads/2024/10/Screenshot-2024-10-07-074607.png
END:VEVENT
BEGIN:VEVENT
DTSTART;TZID=America/Denver:20241103T153000
DTEND;TZID=America/Denver:20241103T173000
DTSTAMP:20260424T035840
CREATED:20241010T115438Z
LAST-MODIFIED:20241010T130351Z
UID:16523-1730647800-1730655000@saddleranchptio.org
SUMMARY:PTIO Festive Photo Session
DESCRIPTION:SPECIAL OFFER: Join Saddle Ranch PTIO for a festive photo session with Mrs. Solley’s vintage Chevy truck and Danielle Bailey Photography! Get the perfect family photos in a quick\, 10-minute session—ideal for kids and holiday greeting cards. 35% of all proceeds go back to Saddle Ranch Elementary PTIO! \nWhen: November 3rd at sunset\nWhere: Meet at Foothills parking lot by Indigo Hill swimming pool off Royal Eagle Lane and Winterthur Way\nCost: $120 (with $20 deposit)\nBook: email daniellebaileyphotography13@gmail.com \n•Each session lasts around 10 minutes\, and you will receive all of your digital images in your photo gallery a couple of weeks after the session.\n•$120 a session\, $20 deposit is required when you schedule your session\, and $100 is due on 11/3. \nFollow @littletealtruck and @daniellebaileyphotography on Instagram!
URL:https://saddleranchptio.org/calendar/christmas-truck-mini-sessions/
CATEGORIES:Fundraiser
ATTACH;FMTTYPE=image/png:https://saddleranchptio.org/wp-content/uploads/2024/10/PTIO-Photography-Flyer-2024.pdf.png
END:VEVENT
BEGIN:VEVENT
DTSTART;VALUE=DATE:20241105
DTEND;VALUE=DATE:20241107
DTSTAMP:20260424T035840
CREATED:20240727T233052Z
LAST-MODIFIED:20240727T233052Z
UID:15263-1730764800-1730937599@saddleranchptio.org
SUMMARY:Picture Retakes - Van Gogh Photography
DESCRIPTION:
URL:https://saddleranchptio.org/calendar/picture-retakes-van-gogh-photography/
LOCATION:Saddle Ranch Elementary Library\, 805 W. English Sparrow Trail\, Highlands Ranch\, CO\, 80129\, United States
CATEGORIES:School Calendar
ATTACH;FMTTYPE=image/png:https://saddleranchptio.org/wp-content/uploads/2023/08/SRE-.png
END:VEVENT
BEGIN:VEVENT
DTSTART;TZID=America/Denver:20240919T160000
DTEND;TZID=America/Denver:20240919T170000
DTSTAMP:20260424T035840
CREATED:20240904T223459Z
LAST-MODIFIED:20240904T223459Z
UID:15700-1726761600-1726765200@saddleranchptio.org
SUMMARY:Book Club
DESCRIPTION:SRE amazing mental health team and principal are facilitating an important conversation at the school!
URL:https://saddleranchptio.org/calendar/book-club/
LOCATION:Saddle Ranch Elementary Library\, 805 W. English Sparrow Trail\, Highlands Ranch\, CO\, 80129\, United States
CATEGORIES:School Activities
ATTACH;FMTTYPE=image/jpeg:https://saddleranchptio.org/wp-content/uploads/2024/09/Book-Club.jpeg
END:VEVENT
BEGIN:VEVENT
DTSTART;TZID=America/Denver:20241111T074500
DTEND;TZID=America/Denver:20241111T081500
DTSTAMP:20260424T035840
CREATED:20240727T225044Z
LAST-MODIFIED:20240727T225231Z
UID:15223-1731311100-1731312900@saddleranchptio.org
SUMMARY:Veterans' Day Event at SRE
DESCRIPTION:More information coming soon
URL:https://saddleranchptio.org/calendar/veterans-day-flag-raising/
LOCATION:Saddle Ranch Elementary\, 805 English Sparrow Tr\, Highlands Ranch\, CO\, 80129
CATEGORIES:Community Event
ATTACH;FMTTYPE=image/png:https://saddleranchptio.org/wp-content/uploads/2023/08/SRE-.png
END:VEVENT
BEGIN:VEVENT
DTSTART;TZID=America/Denver:20241111T180000
DTEND;TZID=America/Denver:20241111T190000
DTSTAMP:20260424T035840
CREATED:20241001T141310Z
LAST-MODIFIED:20241111T212452Z
UID:16114-1731348000-1731351600@saddleranchptio.org
SUMMARY:PTIO Monthly Meeting
DESCRIPTION:PTIO meetings are held on the 2nd Monday of every month in the SRE library with an option to participate on video.*  \nMeetings are open to all parents\, caregivers and SRE staff. Feel free to drop in! Regular topics include: \n\nSchool updates from our Principal Mrs. Hawk\nA recap of available PTIO funds and how they are being spent\nDiscussion of past and upcoming PTIO events\nSharing of ideas to help teachers\, support staff\, students\, and SRE families\n\n* View the agenda for this meeting to get notes from previous meetings and a video link to participate online.
URL:https://saddleranchptio.org/calendar/ptio-monthly-meeting-2-2-2/
LOCATION:Saddle Ranch Elementary (SRE)\, 805 W. English Sparrow Trail\, Highlands Ranch\, CO\, 80129\, United States
CATEGORIES:Meetings
ATTACH;FMTTYPE=image/png:https://saddleranchptio.org/wp-content/uploads/2023/08/SRE-PTIO-Website-Banner.png
END:VEVENT
BEGIN:VEVENT
DTSTART;TZID=America/Denver:20241121T170000
DTEND;TZID=America/Denver:20241121T210000
DTSTAMP:20260424T035840
CREATED:20240910T013917Z
LAST-MODIFIED:20240910T014249Z
UID:15708-1732208400-1732222800@saddleranchptio.org
SUMMARY:Saddle Ranch Spirit Night at Main Event!
DESCRIPTION:Raise some FUNds and have some FUN! Saddle Ranch PTIO is hosting a Spirit Night Fundraiser at Main Event on Thursday\, 5:00 PM – 9:00 PM\,  20% of all sales will go to support our school!
URL:https://saddleranchptio.org/calendar/saddle-ranch-spirit-night-at-main-event-2/
LOCATION:Main Event\, 64 Centennial Blvd\, Highlands Ranch\, CO\, 80129\, United States
CATEGORIES:Fundraiser,Student Activity
ATTACH;FMTTYPE=image/png:https://saddleranchptio.org/wp-content/uploads/2024/09/Main-Event-Spirit-Night-Fundraiser.png
END:VEVENT
BEGIN:VEVENT
DTSTART;VALUE=DATE:20241125
DTEND;VALUE=DATE:20241130
DTSTAMP:20260424T035840
CREATED:20240727T232510Z
LAST-MODIFIED:20240813T232614Z
UID:15253-1732492800-1732924799@saddleranchptio.org
SUMMARY:Thanksgiving Break!
DESCRIPTION:November 25 – Compensation Day (Schools Closed)\nNovember 26 – 29 – Thanksgiving Break (Schools Closed)\nNovember 28 – 29 – Thanksgiving Holiday (District Offices Closed)
URL:https://saddleranchptio.org/calendar/pd-day-no-students-4/
LOCATION:Saddle Ranch Elementary Library\, 805 W. English Sparrow Trail\, Highlands Ranch\, CO\, 80129\, United States
CATEGORIES:School Calendar
ATTACH;FMTTYPE=image/png:https://saddleranchptio.org/wp-content/uploads/2023/08/SRE-.png
END:VEVENT
END:VCALENDAR