BEGIN:VCALENDAR
VERSION:2.0
PRODID:-//Saddle Ranch Elementary PTIO - ECPv6.15.20//NONSGML v1.0//EN
CALSCALE:GREGORIAN
METHOD:PUBLISH
X-WR-CALNAME:Saddle Ranch Elementary PTIO
X-ORIGINAL-URL:https://saddleranchptio.org
X-WR-CALDESC:Events for Saddle Ranch Elementary PTIO
REFRESH-INTERVAL;VALUE=DURATION:PT1H
X-Robots-Tag:noindex
X-PUBLISHED-TTL:PT1H
BEGIN:VTIMEZONE
TZID:America/Denver
BEGIN:DAYLIGHT
TZOFFSETFROM:-0700
TZOFFSETTO:-0600
TZNAME:MDT
DTSTART:20230312T090000
END:DAYLIGHT
BEGIN:STANDARD
TZOFFSETFROM:-0600
TZOFFSETTO:-0700
TZNAME:MST
DTSTART:20231105T080000
END:STANDARD
BEGIN:DAYLIGHT
TZOFFSETFROM:-0700
TZOFFSETTO:-0600
TZNAME:MDT
DTSTART:20240310T090000
END:DAYLIGHT
BEGIN:STANDARD
TZOFFSETFROM:-0600
TZOFFSETTO:-0700
TZNAME:MST
DTSTART:20241103T080000
END:STANDARD
BEGIN:DAYLIGHT
TZOFFSETFROM:-0700
TZOFFSETTO:-0600
TZNAME:MDT
DTSTART:20250309T090000
END:DAYLIGHT
BEGIN:STANDARD
TZOFFSETFROM:-0600
TZOFFSETTO:-0700
TZNAME:MST
DTSTART:20251102T080000
END:STANDARD
END:VTIMEZONE
BEGIN:VEVENT
DTSTART;TZID=America/Denver:20240919T160000
DTEND;TZID=America/Denver:20240919T170000
DTSTAMP:20260424T050645
CREATED:20240904T223459Z
LAST-MODIFIED:20240904T223459Z
UID:15700-1726761600-1726765200@saddleranchptio.org
SUMMARY:Book Club
DESCRIPTION:SRE amazing mental health team and principal are facilitating an important conversation at the school!
URL:https://saddleranchptio.org/calendar/book-club/
LOCATION:Saddle Ranch Elementary Library\, 805 W. English Sparrow Trail\, Highlands Ranch\, CO\, 80129\, United States
CATEGORIES:School Activities
ATTACH;FMTTYPE=image/jpeg:https://saddleranchptio.org/wp-content/uploads/2024/09/Book-Club.jpeg
END:VEVENT
BEGIN:VEVENT
DTSTART;TZID=America/Denver:20241111T180000
DTEND;TZID=America/Denver:20241111T190000
DTSTAMP:20260424T050645
CREATED:20241001T141310Z
LAST-MODIFIED:20241111T212452Z
UID:16114-1731348000-1731351600@saddleranchptio.org
SUMMARY:PTIO Monthly Meeting
DESCRIPTION:PTIO meetings are held on the 2nd Monday of every month in the SRE library with an option to participate on video.*  \nMeetings are open to all parents\, caregivers and SRE staff. Feel free to drop in! Regular topics include: \n\nSchool updates from our Principal Mrs. Hawk\nA recap of available PTIO funds and how they are being spent\nDiscussion of past and upcoming PTIO events\nSharing of ideas to help teachers\, support staff\, students\, and SRE families\n\n* View the agenda for this meeting to get notes from previous meetings and a video link to participate online.
URL:https://saddleranchptio.org/calendar/ptio-monthly-meeting-2-2-2/
LOCATION:Saddle Ranch Elementary (SRE)\, 805 W. English Sparrow Trail\, Highlands Ranch\, CO\, 80129\, United States
CATEGORIES:Meetings
ATTACH;FMTTYPE=image/png:https://saddleranchptio.org/wp-content/uploads/2023/08/SRE-PTIO-Website-Banner.png
END:VEVENT
BEGIN:VEVENT
DTSTART;TZID=America/Denver:20241210T160000
DTEND;TZID=America/Denver:20241210T200000
DTSTAMP:20260424T050645
CREATED:20240730T010326Z
LAST-MODIFIED:20240730T010326Z
UID:15341-1733846400-1733860800@saddleranchptio.org
SUMMARY:Restaurant Night: Chick-Fil-A
DESCRIPTION:We have a way for you to take a night off from cooking\, let your kids eat at some of their favorite restaurants\, and you don’t have to feel guilty because a portion of your purchase goes to funding Saddle Ranch. \nChick-Fil-A donating 20% of sales to Saddle Ranch Elementary on December 10th from 4:00 PM -8:00 PM. \nUse our unique code: ELEMENTARY
URL:https://saddleranchptio.org/calendar/restaurant-night-chick-fil-a-2/
LOCATION:Chick-fil-A (Town Center)\, 960 Cpl Max Donahue Ln\, Highlands Ranch\, CO\, 80129\, United States
CATEGORIES:Restaurant Night
ATTACH;FMTTYPE=image/png:https://saddleranchptio.org/wp-content/uploads/2024/07/2024-Chick-Fil-A-Resturant-Night.png
END:VEVENT
BEGIN:VEVENT
DTSTART;VALUE=DATE:20241220
DTEND;VALUE=DATE:20241221
DTSTAMP:20260424T050645
CREATED:20240813T232802Z
LAST-MODIFIED:20240813T232802Z
UID:15643-1734652800-1734739199@saddleranchptio.org
SUMMARY:Teacher Work Day (No Students)
DESCRIPTION:
URL:https://saddleranchptio.org/calendar/teacher-work-day-no-students-2/
CATEGORIES:School Calendar
END:VEVENT
BEGIN:VEVENT
DTSTART;VALUE=DATE:20241222
DTEND;VALUE=DATE:20250101
DTSTAMP:20260424T050645
CREATED:20240813T232911Z
LAST-MODIFIED:20240813T232911Z
UID:15645-1734825600-1735689599@saddleranchptio.org
SUMMARY:Winter Break (Schools Closed)
DESCRIPTION:
URL:https://saddleranchptio.org/calendar/winter-break-schools-closed/
CATEGORIES:School Calendar
END:VEVENT
BEGIN:VEVENT
DTSTART;VALUE=DATE:20241224
DTEND;VALUE=DATE:20241226
DTSTAMP:20260424T050645
CREATED:20240813T232950Z
LAST-MODIFIED:20240813T232950Z
UID:15647-1734998400-1735171199@saddleranchptio.org
SUMMARY:Christmas Holiday (District Offices Closed)
DESCRIPTION:
URL:https://saddleranchptio.org/calendar/christmas-holiday-district-offices-closed/
CATEGORIES:School Calendar
END:VEVENT
END:VCALENDAR